BEGIN:VCALENDAR
VERSION:2.0
PRODID:-//Patriot Guard Riders - ECPv5.3.2.1//NONSGML v1.0//EN
CALSCALE:GREGORIAN
METHOD:PUBLISH
X-WR-CALNAME:Patriot Guard Riders
X-ORIGINAL-URL:https://www.patriotguard.org
X-WR-CALDESC:Events for Patriot Guard Riders
BEGIN:VTIMEZONE
TZID:America/New_York
BEGIN:DAYLIGHT
TZOFFSETFROM:-0500
TZOFFSETTO:-0400
TZNAME:EDT
DTSTART:20190310T070000
END:DAYLIGHT
BEGIN:STANDARD
TZOFFSETFROM:-0400
TZOFFSETTO:-0500
TZNAME:EST
DTSTART:20191103T060000
END:STANDARD
END:VTIMEZONE
BEGIN:VEVENT
DTSTART;VALUE=DATE:20190720
DTEND;VALUE=DATE:20190721
DTSTAMP:20210401T171553
CREATED:20190714T212916Z
LAST-MODIFIED:20190714T212916Z
UID:167217-1563580800-1563667199@www.patriotguard.org
SUMMARY:Jane E. Carney
DESCRIPTION:Honor Mission\nJane E. Carney\, Veteran\nUSN –\nLansing\, Kansas – 07-20-19\n\n\n\nABOUT THE MISSION: \nJane E. Carney served in the United States Navy for three years. During her service\, she was awarded the National Defense Service Medal.\n\n\nPRIMARY STAGING DETAILS: 07-20-19 \nStaging Time: 08:30 AM\n \nSaint Francis De Sales Catholic Church\n900 Ida Street\nLansing\, Kansas 66043\n\n\nRide Captain: \nRon “Grumpy” Wurtele\nrwurtele@kc.rr.com\n(913) 683-4652\n\n\nSpecial Instructions: \nRiders brief at 8:00 A.M.\nFlag line until start of mass at 9:00 A.M.\nEscort to Mount Calvary Cemetery at 9:50 A.M. for 10:00 burial service.\n\n\nFlags & Water:\nFlags will be provided\nIf you have large bike flags\, please bring them.\nWater WILL NOT be provided\, please bring your own.\n\n\n\nSubmitted By: Ronald Wurtele \nPosition: Kansas Ride Captain \n\nNote: You do not have to own/ride a motorcycle or be a veteran to join\, and membership is Free. The only requirement is RESPECT! To subscribe to receive mission notices\, log into the National Site and click on the Members tab at the top. Select the Subscribe to PGR Missions option.\n Print This Page
URL:https://www.patriotguard.org/mission/jane-e-carney/
CATEGORIES:Honor Mission
END:VEVENT
END:VCALENDAR