BEGIN:VCALENDAR
VERSION:2.0
PRODID:-//Patriot Guard Riders - ECPv5.3.2.1//NONSGML v1.0//EN
CALSCALE:GREGORIAN
METHOD:PUBLISH
X-WR-CALNAME:Patriot Guard Riders
X-ORIGINAL-URL:https://www.patriotguard.org
X-WR-CALDESC:Events for Patriot Guard Riders
BEGIN:VTIMEZONE
TZID:America/New_York
BEGIN:DAYLIGHT
TZOFFSETFROM:-0500
TZOFFSETTO:-0400
TZNAME:EDT
DTSTART:20190310T070000
END:DAYLIGHT
BEGIN:STANDARD
TZOFFSETFROM:-0400
TZOFFSETTO:-0500
TZNAME:EST
DTSTART:20191103T060000
END:STANDARD
END:VTIMEZONE
BEGIN:VEVENT
DTSTART;VALUE=DATE:20190628
DTEND;VALUE=DATE:20190629
DTSTAMP:20210405T011255
CREATED:20190625T225340Z
LAST-MODIFIED:20190625T225511Z
UID:165398-1561680000-1561766399@www.patriotguard.org
SUMMARY:James Wilson Williams\, Jr.
DESCRIPTION:Honor Mission\nJames Wilson Williams\, Jr.\, Retired\nUSA – Vietnam\nSan Antonio\, Texas – 06-28-19\n\n\n \n\nABOUT THE MISSION: \nThe family of Lt. Col. James Williams Jr.\, US Army (Ret.)\, requests the presence and participation Patriot Guard Riders at the graveside rendering of military honors of their loved one. Lt. Col. James Williams Jr. served in the US Army for 20 years\, and was a Vietnam veteran.\n\n\nPRIMARY STAGING DETAILS: 06-28-19 \nStaging Time: 10:30 am\n \nLowe’s Home Improvement\n1470 Austin Hwy\nSan Antonio\, Texas 78209\nMap\n\n\nRide Captain: \nPete “SeaDog” Johnson\npfjohn127@gmail.com\n\n\nSpecial Instructions: \nBriefing: 10:45 AM\nKSU: 11:00 AM\nInterment: 11:30 AM\nFort Sam Houston National Cemetery\n1520 Harry Wurzbach Rd\nSan Antonio\, TX 78209\nMap\nFlags: Alice “Cake Lady” Wagener\n\nFlags & Water:\nFlags will be provided\nIf you have large bike flags\, please bring them.\nWater will be provided.\n\n\n\nSubmitted By: Lisa Menard \nPosition: Texas Ride Captain \n\nNote: You do not have to own/ride a motorcycle or be a veteran to join\, and membership is Free. The only requirement is RESPECT! To subscribe to receive mission notices\, log into the National Site and click on the Members tab at the top. Select the Subscribe to PGR Missions option.\n Print This Page
URL:https://www.patriotguard.org/mission/james-wilson-williamsjr/
CATEGORIES:Honor Mission
END:VEVENT
END:VCALENDAR