BEGIN:VCALENDAR
VERSION:2.0
PRODID:-//Patriot Guard Riders - ECPv5.6.0//NONSGML v1.0//EN
CALSCALE:GREGORIAN
METHOD:PUBLISH
X-WR-CALNAME:Patriot Guard Riders
X-ORIGINAL-URL:https://www.patriotguard.org
X-WR-CALDESC:Events for Patriot Guard Riders
BEGIN:VTIMEZONE
TZID:America/New_York
BEGIN:DAYLIGHT
TZOFFSETFROM:-0500
TZOFFSETTO:-0400
TZNAME:EDT
DTSTART:20160313T070000
END:DAYLIGHT
BEGIN:STANDARD
TZOFFSETFROM:-0400
TZOFFSETTO:-0500
TZNAME:EST
DTSTART:20161106T060000
END:STANDARD
END:VTIMEZONE
BEGIN:VEVENT
DTSTART;TZID=America/New_York:20160826T090000
DTEND;TZID=America/New_York:20160826T110000
DTSTAMP:20210512T042051
CREATED:20160826T130000Z
LAST-MODIFIED:20191201T143343Z
UID:409692-1472202000-1472209200@www.patriotguard.org
SUMMARY:James W. Temple\, Jr.\, 84\, USN
DESCRIPTION:The family of James W. Temple Jr. has requested the Patriot Guard to pay Honors to this American Hero. It will be our honor to do so. \nJames served in the Navy from  01/10/1951 – 11/12/1954 during the Korean War and achieved the rank of ET2. James received the National Defense Service Medal\, Korean Service Medal and United Nations Service Medal \nHe retired from Hughes Aircraft Co. after 35 years. He loved to work with his hands and was extremely creative. Enjoyed Woodworking\, camping. \nHe is survived by his wife\, one sister\, five children\, 11 grandchildren and 9 great-grandchildren. \nThe weather is predicted to be hot so please stay hydrated and don’t forget to eat; it can make a difference with your ability to withstand the heat. \nNOTE: This mission posting is to facilitate your voluntary participation in honoring this Military Veteran.  \nTime Table for Friday 26 August 2016: \n0900 – Stage at Riverside National Cemetery\, 22495 Van Buren Blvd.\, Riverside\, CA 92518  (family staging  ‘TBD’\, PGR at staging #8)  https://goo.gl/maps/PvVxjcEBQR32 \n0915 – Mission briefing \n1000 – Accompany Hero and family to assigned shelter for Flag Line\, Service and Military Honors. \nR/C Jerry ‘Budster’ Galang\nbudster@sbcglobal.net\n805-341-5869 cell \nYou do not have to be a Veteran or a motorcycle rider to attend this mission. Everyone is welcome. We encourage those who do not ride to attend in your car. If this will be your first mission go to the initial staging area and you will be briefed there by the R/C (Ride Captain).  Dress for motorcycle riding or dress casually if you are driving a cage (car).  Please feel free to attend any portion of this mission you can.  Please ride/drive safely.
URL:https://www.patriotguard.org/mission/james-w-temple-jr-84-usn/
CATEGORIES:Archive
END:VEVENT
END:VCALENDAR