BEGIN:VCALENDAR
VERSION:2.0
PRODID:-//Patriot Guard Riders - ECPv5.3.2.1//NONSGML v1.0//EN
CALSCALE:GREGORIAN
METHOD:PUBLISH
X-WR-CALNAME:Patriot Guard Riders
X-ORIGINAL-URL:https://www.patriotguard.org
X-WR-CALDESC:Events for Patriot Guard Riders
BEGIN:VTIMEZONE
TZID:America/New_York
BEGIN:DAYLIGHT
TZOFFSETFROM:-0500
TZOFFSETTO:-0400
TZNAME:EDT
DTSTART:20170312T070000
END:DAYLIGHT
BEGIN:STANDARD
TZOFFSETFROM:-0400
TZOFFSETTO:-0500
TZNAME:EST
DTSTART:20171105T060000
END:STANDARD
END:VTIMEZONE
BEGIN:VEVENT
DTSTART;TZID=America/New_York:20170318T130000
DTEND;TZID=America/New_York:20170318T150000
DTSTAMP:20210405T215046
CREATED:20170318T170000Z
LAST-MODIFIED:20191201T034452Z
UID:342377-1489842000-1489849200@www.patriotguard.org
SUMMARY:James W. Pape\, Veteran\, USAF - Vietnam
DESCRIPTION:James W. Pape\, Veteran \nUSAF  – Vietnam \nAlbany\, Oregon – 18 Mar 2017\n\n\n\n\n\n[HR][/HR]\nABOUT THE MISSION: \nLadies and Gentlemen of the Patriot Guard Riders\, \nWe have been requested  to stand a flag line Saturday\, March 18\, for  U.S. Air Force Veteran\,  Retired Major James W. Pape\, 83.  Maj Pape  served three tours in  Vietnam\, retiring after 20+ years of service. He  continued to work as a  pilot after his time in the military. \n\nPRIMARY STAGING DETAILS:  18 Mar 2017\n \n \nPrimary Staging Time:  1:00 P.M.\n\n1215 Pacific Blvd.\, Albany\, OR — American Legion Post\n\nAlbany\, Oregon – 97321\n\n\n\n\n\n \n \nRide Captain:\n\nDebbie Shoemake\ndebbies312@yahoo.com\n\n\n\n \n \nSpecial Instructions:\n\nBriefing:  1:20 pm \nFlag Line Set: 1:30 pm \nService Begins: 2:00 pm\n\n\n\n \n \nFlags & Water:\n\nFlags Will NOT Be Provided. Please bring your own.\n\nIf you have large bike flags\, please bring them.\n\nWater WILL NOT be provided\, please bring your own.\n\n \nSubmitted By:  Chris Keller\nPosition:  Assistant State Captain \n[HR][/HR]\nNote:\n\nYou do not have to own/ride a motorcycle or be a Veteran to join and membership is Free. The only requirement is RESPECT! To join\, simply go to Patriot Guard website and click on Register. Membership is Free. \nTo subscribe to receive mission notices\, log into the National Site and   click on the Mission Tab at the top. Select Upcoming Missions by State.   Scroll to the state(s) you would like to receive notices for and click   on the green check mark. Detailed instructions are also located in the   FAQs on the site by clicking on the Quick Links Tab and selecting  FAQs.
URL:https://www.patriotguard.org/mission/james-w-pape-veteran-usaf-vietnam/
LOCATION:Donald Eiden
END:VEVENT
END:VCALENDAR