BEGIN:VCALENDAR
VERSION:2.0
PRODID:-//Patriot Guard Riders - ECPv5.6.0//NONSGML v1.0//EN
CALSCALE:GREGORIAN
METHOD:PUBLISH
X-WR-CALNAME:Patriot Guard Riders
X-ORIGINAL-URL:https://www.patriotguard.org
X-WR-CALDESC:Events for Patriot Guard Riders
BEGIN:VTIMEZONE
TZID:America/New_York
BEGIN:DAYLIGHT
TZOFFSETFROM:-0500
TZOFFSETTO:-0400
TZNAME:EDT
DTSTART:20160313T070000
END:DAYLIGHT
BEGIN:STANDARD
TZOFFSETFROM:-0400
TZOFFSETTO:-0500
TZNAME:EST
DTSTART:20161106T060000
END:STANDARD
END:VTIMEZONE
BEGIN:VEVENT
DTSTART;TZID=America/New_York:20160814T090000
DTEND;TZID=America/New_York:20160814T110000
DTSTAMP:20210512T034445
CREATED:20160814T130000Z
LAST-MODIFIED:20191201T143610Z
UID:409919-1471165200-1471172400@www.patriotguard.org
SUMMARY:James W. Cornett\, 68
DESCRIPTION:The Patriot Guard has been requested to take part in a ceremony to honor James Cornett for his service our Great Nation.  Due to earlier miscues between the family\, the funeral home and the Patriot Guard\, we were not able to honor this veteran at his wake and funeral service.  The family has requested that we attend a ceremony at Cookie’s North End Diner in White Hall\, IL.  We will be honored to fulfill this request and be there for James’ family.  Please join us as we show our appreciation for this True Patriot’s service to our country. \nCEREMONY \nDate:  Sun\, 14 Aug 16\nTime:  1500 hrs (3 pm sharp) \nPlace:  Cookie’s North End Diner\n108 2nd Ave N\nWhite Hall\, IL \nStaging:  1430 hrs (2:30 pm) at the diner.\nDon’t be late.  Ceremony/Presentation at 3 pm sharp. \nRC  James Roady (217-370-9384)
URL:https://www.patriotguard.org/mission/james-w-cornett-68/
CATEGORIES:Archive
END:VEVENT
END:VCALENDAR