BEGIN:VCALENDAR
VERSION:2.0
PRODID:-//Patriot Guard Riders - ECPv5.3.2.1//NONSGML v1.0//EN
CALSCALE:GREGORIAN
METHOD:PUBLISH
X-WR-CALNAME:Patriot Guard Riders
X-ORIGINAL-URL:https://www.patriotguard.org
X-WR-CALDESC:Events for Patriot Guard Riders
BEGIN:VTIMEZONE
TZID:America/New_York
BEGIN:DAYLIGHT
TZOFFSETFROM:-0500
TZOFFSETTO:-0400
TZNAME:EDT
DTSTART:20190310T070000
END:DAYLIGHT
BEGIN:STANDARD
TZOFFSETFROM:-0400
TZOFFSETTO:-0500
TZNAME:EST
DTSTART:20191103T060000
END:STANDARD
END:VTIMEZONE
BEGIN:VEVENT
DTSTART;VALUE=DATE:20190701
DTEND;VALUE=DATE:20190702
DTSTAMP:20210403T193901
CREATED:20190626T123636Z
LAST-MODIFIED:20190626T123636Z
UID:165881-1561939200-1562025599@www.patriotguard.org
SUMMARY:James Valentine Post
DESCRIPTION:Honor Mission\nJames Valentine Post \, Veteran\nUSA – \, WoT\nCanton\, Georgia – 07-01-19\n\n\n\n\nABOUT THE MISSION: \nThe family of 41 year old US Army Veteran James Valentine Post has asked the Patriot Guard Riders to Honor their loved one as he is buried with full Military Honors  and it will be our Honor to do so. Specialist Post served two Combat tours .\n\n\nPRIMARY STAGING DETAILS: 07-01-19 \nStaging Time: 9:15  am \nGeorgia National Cemetery\n2025 MOUNT CARMEL CHURCH LANE\nCanton GA 30114\n\n\n\n\n\nRide Captain: \nSid ‘Squirrel’ Kelly\nsidkelly423@gmail.com\n404-273–7127\n\nReuben ‘Tailgunner’ Baumgardner-\n\n\nSpecial Instructions: \nStage at POW Flag Pole for briefing at 9:1 5am and then proceed to appropriate Shelter for arrival of family for Service. Military Honors will be provided. Service is scheduled for 10:00 am\,\n\nFlags & Water:\nFlags will be provided\nLarge Bike Flags will NOT be needed.\nWater will be provided.\n\n\n\nSubmitted By: Sidney Kelly \nPosition: Georgia Ride Captain \n\nNote: You do not have to own/ride a motorcycle or be a veteran to join\, and membership is Free. The only requirement is RESPECT! To subscribe to receive mission notices\, log into the National Site and click on the Members tab at the top. Select the Subscribe to PGR Missions option.\n Print This Page
URL:https://www.patriotguard.org/mission/james-valentine-post/
CATEGORIES:Honor Mission
END:VEVENT
END:VCALENDAR