BEGIN:VCALENDAR
VERSION:2.0
PRODID:-//Patriot Guard Riders - ECPv5.3.2.1//NONSGML v1.0//EN
CALSCALE:GREGORIAN
METHOD:PUBLISH
X-WR-CALNAME:Patriot Guard Riders
X-ORIGINAL-URL:https://www.patriotguard.org
X-WR-CALDESC:Events for Patriot Guard Riders
BEGIN:VTIMEZONE
TZID:America/New_York
BEGIN:DAYLIGHT
TZOFFSETFROM:-0500
TZOFFSETTO:-0400
TZNAME:EDT
DTSTART:20170312T070000
END:DAYLIGHT
BEGIN:STANDARD
TZOFFSETFROM:-0400
TZOFFSETTO:-0500
TZNAME:EST
DTSTART:20171105T060000
END:STANDARD
END:VTIMEZONE
BEGIN:VEVENT
DTSTART;TZID=America/New_York:20170410T151500
DTEND;TZID=America/New_York:20170410T171500
DTSTAMP:20210404T171750
CREATED:20170410T191500Z
LAST-MODIFIED:20191201T035531Z
UID:347651-1491837300-1491844500@www.patriotguard.org
SUMMARY:James Robert Friedberg\, Veteran\, USN
DESCRIPTION:James Robert Friedberg\, Veteran \nUSN \nDallas\, Texas – 10 Apr 2017\n\n[HR][/HR]\nABOUT THE MISSION: \nNaval Flight Officer\, served as an Airborne Combat Information Officer during the Cold War. \nThe family of LT James Friedberg has asked the Patriot Guard Riders to honor his memory and service to our Country by standing a Flag Line at his committal service \nPRIMARY STAGING DETAILS: 10 Apr 2017 \n \nPrimary Staging Time: 1215 P.M.\n\nDallas-Fort Worth National Cemetery\n2000 Mountain Creek Parkway\n\nDallas\, Texas – 75211\n\n\n\n \nRide Captain:\n\nRick Crabb\nrandjcrabb@juno.com\n(910) 330-9861\n\n \nSpecial Instructions:\n\nAfter the Mission Brief\, four designated honor bikes will move to the staging lane and escort the procession to the committal shelter. The remainder of the Riders will proceed to the committal shelter\, establish the Flag Line and prepare to receive the family and friends of LT Friedberg. When directed the Riders will return the flags to storage\, be debriefed and dismissed.\n\n \nFlags & Water:\n\nFlags Will Be Provided\n\nIf you have large bike flags\, please bring them.\n\nWater WILL NOT be provided\, please bring your own.\n\n\nSubmitted By: M. B. Ingersoll\nPosition: Ride Captain \n[HR][/HR]\nNote:\nYou do not have to own/ride a motorcycle or be a Veteran to join and membership is Free. The only requirement is RESPECT! To join\, simply go to www.PatriotGuard.org and click on Register. Membership is Free. \nTo subscribe to receive mission notices\, log into the National Site and click on the Mission Tab at the top. Select Upcoming Missions by State. Scroll to the state(s) you would like to receive notices for and click on the green check mark. Detailed instructions are also located in the FAQs on the site by clicking on the Quick Links Tab and selecting FAQs.
URL:https://www.patriotguard.org/mission/james-robert-friedberg-veteran-usn/
END:VEVENT
END:VCALENDAR