BEGIN:VCALENDAR
VERSION:2.0
PRODID:-//Patriot Guard Riders - ECPv5.3.2.1//NONSGML v1.0//EN
CALSCALE:GREGORIAN
METHOD:PUBLISH
X-WR-CALNAME:Patriot Guard Riders
X-ORIGINAL-URL:https://www.patriotguard.org
X-WR-CALDESC:Events for Patriot Guard Riders
BEGIN:VTIMEZONE
TZID:America/New_York
BEGIN:DAYLIGHT
TZOFFSETFROM:-0500
TZOFFSETTO:-0400
TZNAME:EDT
DTSTART:20170312T070000
END:DAYLIGHT
BEGIN:STANDARD
TZOFFSETFROM:-0400
TZOFFSETTO:-0500
TZNAME:EST
DTSTART:20171105T060000
END:STANDARD
END:VTIMEZONE
BEGIN:VEVENT
DTSTART;TZID=America/New_York:20170218T220000
DTEND;TZID=America/New_York:20170219T000000
DTSTAMP:20210403T084922
CREATED:20170219T030000Z
LAST-MODIFIED:20191201T034301Z
UID:341294-1487455200-1487462400@www.patriotguard.org
SUMMARY:James Robert Averiett \, USA
DESCRIPTION:James Robert Averiett \nUSA \nMULTI-CITY\, Oklahoma – 18 Feb 2017\n\n[HR][/HR]\nABOUT THE MISSION: \nThe family of PFC James Robert Averiett\, US Army – Vietnam Era Veteran\, has requested the Patriot Guard Riders to stand and honor their fallen Hero. PFC James Robert Averiett served our Great Nation in the US Army from 1971 to 1974 as a radio repairman. James passed from this life 9 Feb 2017. Services will be conducted under the direction of Howard-Harris Funeral Home of Lawton at Immanuel Baptist Church\, 207 N 2nd St\, Duncan Ok at 11:00 am Sat 18 Feb 2017. Escort to Oil Spring Cemetery in Tatums Ok will follow the service. \n\n\nPRIMARY STAGING DETAILS: 18 Feb 2017 \n \nPrimary Staging Time: 10:00 P.M.\n\nSouth parking lot Immanuel Baptist Church\n207 N 2nd St\, Duncan Ok\n\nDuncan\, Oklahoma – 73505\n\n\n\n \n \nRide Captain:\n\nJames (Dave) Slate\njamesdslate@yahoo.com\n(580) 581-7687\n\n \n \nSpecial Instructions: \nMandatory Briefing: 10:15\nMann Church doors for Family and Friends \nFlag Line: 10:30\nRespect/Salute line following service \nKSU: Escort to Oil Spring Cemetery\, Tatums Ok.\nfollowing service. \nWeather: Weather should be very good at 70 degrees and sunny\n\n\n\n\n\nFlags & Water:\n\nFlags Will Be Provided\n\nIf you have large bike flags\, please bring them.\n\nWater will be provided.\n\n\n\nSubmitted By: Billy Hope\nPosition: Ride Captain \n[HR][/HR]\nNote:\nYou do not have to own/ride a motorcycle or be a Veteran to join and membership is Free. The only requirement is RESPECT! To join\, simply go to Patriot Guard website and click on Register. Membership is Free. \nTo subscribe to receive mission notices\, log into the National Site and click on the Mission Tab at the top. Select Upcoming Missions by State. Scroll to the state(s) you would like to receive notices for and click on the green check mark. Detailed instructions are also located in the FAQs on the site by clicking on the Quick Links Tab and selecting FAQs.
URL:https://www.patriotguard.org/mission/james-robert-averiett-usa/
LOCATION:Earl V Carey
END:VEVENT
END:VCALENDAR