BEGIN:VCALENDAR
VERSION:2.0
PRODID:-//Patriot Guard Riders - ECPv5.3.2.1//NONSGML v1.0//EN
CALSCALE:GREGORIAN
METHOD:PUBLISH
X-WR-CALNAME:Patriot Guard Riders
X-ORIGINAL-URL:https://www.patriotguard.org
X-WR-CALDESC:Events for Patriot Guard Riders
BEGIN:VTIMEZONE
TZID:America/New_York
BEGIN:DAYLIGHT
TZOFFSETFROM:-0500
TZOFFSETTO:-0400
TZNAME:EDT
DTSTART:20190310T070000
END:DAYLIGHT
BEGIN:STANDARD
TZOFFSETFROM:-0400
TZOFFSETTO:-0500
TZNAME:EST
DTSTART:20191103T060000
END:STANDARD
END:VTIMEZONE
BEGIN:VEVENT
DTSTART;VALUE=DATE:20190920
DTEND;VALUE=DATE:20190921
DTSTAMP:20210401T131535
CREATED:20190917T180002Z
LAST-MODIFIED:20190917T180002Z
UID:174598-1568937600-1569023999@www.patriotguard.org
SUMMARY:James Richard Yates
DESCRIPTION:Honor Mission\nJames Richard Yates\, Veteran\nUSA – Vietnam\nWaynesville\, Missouri – 09-20-19\n\n\n\nABOUT THE MISSION: \nThe family and friends of James Richard Yates request the Patriot Guard to escort their Hero to the Waynesville Missouri Veterans Cemetery and stand a silent Flag line for full military Honors. James was a Vietnam Veteran and served two tours of duty during the war. He was proud of his service and continued to honor his fellow veterans as a member of the Honor Guard from VFW Post 4107 of Lebanon. He earned the National Defense Medal and the Vietnam Service Medal.\n\n\nPRIMARY STAGING DETAILS: 09-20-19 \nStaging Time: 1:30 PM\n \nExpress Stop\n101 Discovery Dr\nWaynesville\, Missouri 65583\n\n\nRide Captain: \nKen “Grumpy” Kelly\naugust.kelly@hotmail.com\n573-747-8785\n\n\nSpecial Instructions: \n1:30 PM Stage at Express Stop.\n1:40 PM RC Briefing.\n1:45 PM Escort to Missouri Veterans Cemetery Waynesville\, Mo.\n2:00 PM Flag Line for Service and Military Honors.\n\n\nFlags & Water:\nFlags will be provided\nIf you have large bike flags\, please bring them.\nWater WILL NOT be provided\, please bring your own.\n\n\n\nSubmitted By: Ken Kelly \nPosition: Missouri Ride Captain \n\nNote: You do not have to own/ride a motorcycle or be a veteran to join\, and membership is Free. The only requirement is RESPECT! To subscribe to receive mission notices\, log into the National Site and click on the Members tab at the top. Select the Subscribe to PGR Missions option.\n Print This Page
URL:https://www.patriotguard.org/mission/james-richard-yates/
CATEGORIES:Honor Mission
END:VEVENT
END:VCALENDAR