BEGIN:VCALENDAR
VERSION:2.0
PRODID:-//Patriot Guard Riders - ECPv5.6.0//NONSGML v1.0//EN
CALSCALE:GREGORIAN
METHOD:PUBLISH
X-WR-CALNAME:Patriot Guard Riders
X-ORIGINAL-URL:https://www.patriotguard.org
X-WR-CALDESC:Events for Patriot Guard Riders
BEGIN:VTIMEZONE
TZID:America/New_York
BEGIN:DAYLIGHT
TZOFFSETFROM:-0500
TZOFFSETTO:-0400
TZNAME:EDT
DTSTART:20160313T070000
END:DAYLIGHT
BEGIN:STANDARD
TZOFFSETFROM:-0400
TZOFFSETTO:-0500
TZNAME:EST
DTSTART:20161106T060000
END:STANDARD
END:VTIMEZONE
BEGIN:VEVENT
DTSTART;TZID=America/New_York:20160628T090000
DTEND;TZID=America/New_York:20160628T110000
DTSTAMP:20210512T235033
CREATED:20160628T130000Z
LAST-MODIFIED:20191201T144753Z
UID:411001-1467104400-1467111600@www.patriotguard.org
SUMMARY:James Richard Carpenter\, USA Veteran / Louisville
DESCRIPTION:HONOR MISSION FOR JAMES RICHARD CARPENTER\n\n\n\nWe have been invited by the family for James Richard Carpenter. Mr. Carpenter was a US Army Veteran. A life long patriot and loved his country to the point he was willing to give his life in battle. It is now our honor to escort our Hero. The following arrangements have been made. \nFLAG LINE:\nDate: Tuesday June 28\, 2016\nStage: 0945\nFlag Line: 1000 to 1100\nFinal Salute: 1100\nEscort to Church: 1130\nFrom: JB Ratterman & Sons Funeral Home\, 2114 W. Market Street\, Louisville\, KY.\nTo: Good Shepherd Catholic Church\, 3511 Rudd Ave\, Louisville\, KY.\nService: 1200 \nESCORT:\nDate: Tuesday June 28\, 2016\nEscort: 1300 after service\nFrom: Good Shepherd Catholic Church\, 3511 Rudd Ave\, Louisville\, KY.\nTo: Kentucky Veterans Cemetery Central\, 2501 N. Dixie Blvd\, Fort Knox\, KY. 40121 \nPlease arrive hydrated and dress for the weather conditions. \nRC: Chris Richardson\nchrisgrichardson@aol.com
URL:https://www.patriotguard.org/mission/james-richard-carpenter-usa-veteran-louisville/
CATEGORIES:Archive
END:VEVENT
END:VCALENDAR