BEGIN:VCALENDAR
VERSION:2.0
PRODID:-//Patriot Guard Riders - ECPv5.6.0//NONSGML v1.0//EN
CALSCALE:GREGORIAN
METHOD:PUBLISH
X-WR-CALNAME:Patriot Guard Riders
X-ORIGINAL-URL:https://www.patriotguard.org
X-WR-CALDESC:Events for Patriot Guard Riders
BEGIN:VTIMEZONE
TZID:America/New_York
BEGIN:DAYLIGHT
TZOFFSETFROM:-0500
TZOFFSETTO:-0400
TZNAME:EDT
DTSTART:20160313T070000
END:DAYLIGHT
BEGIN:STANDARD
TZOFFSETFROM:-0400
TZOFFSETTO:-0500
TZNAME:EST
DTSTART:20161106T060000
END:STANDARD
END:VTIMEZONE
BEGIN:VEVENT
DTSTART;TZID=America/New_York:20160826T090000
DTEND;TZID=America/New_York:20160826T110000
DTSTAMP:20210511T183008
CREATED:20160826T130000Z
LAST-MODIFIED:20191201T143316Z
UID:409648-1472202000-1472209200@www.patriotguard.org
SUMMARY:James R. Lambert
DESCRIPTION:James R. Lambert\nUSMC Veteran\nBath\, NY\nFriday\, 08/26/2016 \n\n\n\nPlease note that due to ongoing OPSEC concerns\, mission details are not shown in this posting. All specific details and updates have been sent to members directly via their e-mail address on file. \nPGR members; \nThe family has invited the Patriot Guard Riders to stand for James R. Lambert\, a fallen Marine\, during his military honors interment.  Due to the very short notification of this mission\, little detail is known about James at the time of posting. \nWhen/Where:\nFriday\, August 26\, 2016 \nBath\, NY \nARC:\nBob Wheeler \nWe will meet at the Bath National Cemetery. Please stage at the cemetery entrance at bottom of hill as we will be riding in together to the burial site. We will be standing a flag line so please bring your clean 3X5 flag. \nThank-you for all you do! \nContact:\nJohn P. McMullen\n585.943.4964\njmcm79@aol.com
URL:https://www.patriotguard.org/mission/james-r-lambert/
CATEGORIES:Archive
END:VEVENT
END:VCALENDAR