BEGIN:VCALENDAR
VERSION:2.0
PRODID:-//Patriot Guard Riders - ECPv5.6.0//NONSGML v1.0//EN
CALSCALE:GREGORIAN
METHOD:PUBLISH
X-WR-CALNAME:Patriot Guard Riders
X-ORIGINAL-URL:https://www.patriotguard.org
X-WR-CALDESC:Events for Patriot Guard Riders
BEGIN:VTIMEZONE
TZID:America/New_York
BEGIN:DAYLIGHT
TZOFFSETFROM:-0500
TZOFFSETTO:-0400
TZNAME:EDT
DTSTART:20160313T070000
END:DAYLIGHT
BEGIN:STANDARD
TZOFFSETFROM:-0400
TZOFFSETTO:-0500
TZNAME:EST
DTSTART:20161106T060000
END:STANDARD
END:VTIMEZONE
BEGIN:VEVENT
DTSTART;TZID=America/New_York:20160609T090000
DTEND;TZID=America/New_York:20160609T110000
DTSTAMP:20210513T181151
CREATED:20160609T130000Z
LAST-MODIFIED:20191201T145410Z
UID:411565-1465462800-1465470000@www.patriotguard.org
SUMMARY:James R. Hines\, 61\, USN
DESCRIPTION:James R. Hines\, 61\nUSN\nSt. Joseph MO\n9 Jun 2016\n\n\n\nThe Patriot Guard Riders have been invited by the family of James R. Hines to stand in honor of this hero at his services on Thursday\, June 9\, 2016.  Mr. Hines served honorably for 3 years in the United States Navy.  He was a Vietnam Veteran.   \nThis mission will be a flag line only. \nThursday\, June 9\, 2016:\nStaging – 1715 hrs. at:\nFirst Baptist  Church\n1225 Francis St.\nSt. Joseph\, MO  64501 \nMeeting – 1730 hrs. \nVisitation – 1800 – 2000 hrs. \nMilitary Honors – 1800 hrs.\n\nRide Captain:\nJim “Goodnews” Williams\njwusaw@aol.com\n  816-262-8185
URL:https://www.patriotguard.org/mission/james-r-hines-61-usn/
CATEGORIES:Archive
END:VEVENT
END:VCALENDAR