BEGIN:VCALENDAR
VERSION:2.0
PRODID:-//Patriot Guard Riders - ECPv5.6.0//NONSGML v1.0//EN
CALSCALE:GREGORIAN
METHOD:PUBLISH
X-WR-CALNAME:Patriot Guard Riders
X-ORIGINAL-URL:https://www.patriotguard.org
X-WR-CALDESC:Events for Patriot Guard Riders
BEGIN:VTIMEZONE
TZID:America/New_York
BEGIN:DAYLIGHT
TZOFFSETFROM:-0500
TZOFFSETTO:-0400
TZNAME:EDT
DTSTART:20160313T070000
END:DAYLIGHT
BEGIN:STANDARD
TZOFFSETFROM:-0400
TZOFFSETTO:-0500
TZNAME:EST
DTSTART:20161106T060000
END:STANDARD
END:VTIMEZONE
BEGIN:VEVENT
DTSTART;TZID=America/New_York:20160826T090000
DTEND;TZID=America/New_York:20160826T110000
DTSTAMP:20210512T011215
CREATED:20160826T130000Z
LAST-MODIFIED:20191201T143401Z
UID:409721-1472202000-1472209200@www.patriotguard.org
SUMMARY:James R. Harrell Jr.\, 73\, USN
DESCRIPTION:The family of James  R. Harrell Jr. has respectfully requested the Patriot Guard  Riders assist with the memorial service of their loved one by Standing a Tall  and Silent Flag Line of Honor and Respect. \nMr. Harrell served his country with  Honor in the United States Navy from August 1960 to September 1963\, with a rank  of Petty Officer Third Class. \nPost  enlistment\, Jim worked as a butcher for Shop & Save  and Dierburgs. \nMr. Harrell is survived by  his  wife Kathleen\, three sons\, two stepsons\, a stepdaughter\, thirteen grandchildren and two great grandchildren.\n\nObituary Link:   http://www.alternativefuneralcremation.com/obituaries/James-Jim-Harrell-2/\n\nStage:   Friday\, August 26\, 12:30  P.M.\n             Northroad Community  Church\n             49 College Campus  Dr.\n             Moscow Mills\,  MO\n             (West on 70\, North on 61\, Right on  61\, Left on College Campus Drive)\n\nRide Meeting:   12:45 P.M. \nEscort:          Jefferson Barracks National Cemetery. Appointment time:  2:30 \nThis is an escort only  mission. \nRide Captain:     Ron “Pete”  Peterson\nron.peterson@charter.net\n                           636-443-.9643 \nFlag Support:      Harold “ChiefBoo”  Vanderboegh\n\nWeather projected to be  67-83* with a 20% chance of rain.
URL:https://www.patriotguard.org/mission/james-r-harrell-jr-73-usn/
CATEGORIES:Archive
END:VEVENT
END:VCALENDAR