BEGIN:VCALENDAR
VERSION:2.0
PRODID:-//Patriot Guard Riders - ECPv5.6.0//NONSGML v1.0//EN
CALSCALE:GREGORIAN
METHOD:PUBLISH
X-WR-CALNAME:Patriot Guard Riders
X-ORIGINAL-URL:https://www.patriotguard.org
X-WR-CALDESC:Events for Patriot Guard Riders
BEGIN:VTIMEZONE
TZID:America/New_York
BEGIN:DAYLIGHT
TZOFFSETFROM:-0500
TZOFFSETTO:-0400
TZNAME:EDT
DTSTART:20160313T070000
END:DAYLIGHT
BEGIN:STANDARD
TZOFFSETFROM:-0400
TZOFFSETTO:-0500
TZNAME:EST
DTSTART:20161106T060000
END:STANDARD
END:VTIMEZONE
BEGIN:VEVENT
DTSTART;TZID=America/New_York:20160819T090000
DTEND;TZID=America/New_York:20160819T110000
DTSTAMP:20210512T020941
CREATED:20160819T130000Z
LAST-MODIFIED:20191201T143536Z
UID:409866-1471597200-1471604400@www.patriotguard.org
SUMMARY:James Patrick Creagan
DESCRIPTION:Ladies and Gentlemen of the Patriot Guard Riders\, the family of US ARMY Veteran\, James Patrick Creagan has requested the Patriot Guard Riders Stand in Honor of his life and service to our country during his memorial service and committal service\, in which he will receive his much deserved Military Honors rendered by the US Army Honor Guard. James enlisted in the US Army in 1959 and served honorably until 1961\, during which time he was stationed at White Sands Missile Range.   \nPlease join with me as we stand in Honor for this American Hero alongside his family and friends.       \nMISSION DATE: 19 AUG 2016 / Friday     \nMISSION PLAN: This will be a three phase mission.  \nPHASE I:  We will provide a flag line at the memorial service location until the service begins. \nSTAGING LOCATION: Vancouver Masonic lodge; 2500 NE 78th Street\, Vancouver\, WA. 98665  \nSCHEDULE:\n1230 – Staging / Sign in\n1300 – Mission Briefing\n1315 – KSU for mission location\n1330 – Establish Flag line\n1400 – Service begins flag line fade away.     \nPHASE II: RHG has been requested to lead our hero to his final resting place\, where he will receive his well-deserved Military Honors rendered by the US ARMY Honor Guard.  The RHG will lead the family procession from the church to the cemetery at the conclusion of the memorial service. \nIf you wish to be on the RHG please contact the RHG RC listed below.  The ability to fly a 3X5 flag is recommended.   \nPHASE III: 19 AUG 2016 / Cemetery (committal) Service & Military Honors\n\nSTAGING LOCATION: 16407 NE 15th Avenue\, Battle Ground\, WA. 98642 \nSCHEDULE\n1500 – Staging       \n1515 – Briefing\n1545 – Flag line established \n1600 – Service Begins\, Members will hold the line until the Military Honors portion of the service has concluded.    \nMission RC Mark “Big Bore” Smith\, smithmjccfd10@aol.com\nMission RCIT and SV: Warren Besco; warrenbesco@gmail.com \nRHG RC; Daniel “Double D” Halverson; danielhalversonpgr@yahoo.com \nRHG RCIT: Todd Bingham: todd@availablecreations.com
URL:https://www.patriotguard.org/mission/james-patrick-creagan/
CATEGORIES:Archive
END:VEVENT
END:VCALENDAR