BEGIN:VCALENDAR
VERSION:2.0
PRODID:-//Patriot Guard Riders - ECPv5.6.0//NONSGML v1.0//EN
CALSCALE:GREGORIAN
METHOD:PUBLISH
X-WR-CALNAME:Patriot Guard Riders
X-ORIGINAL-URL:https://www.patriotguard.org
X-WR-CALDESC:Events for Patriot Guard Riders
BEGIN:VTIMEZONE
TZID:America/New_York
BEGIN:DAYLIGHT
TZOFFSETFROM:-0500
TZOFFSETTO:-0400
TZNAME:EDT
DTSTART:20160313T070000
END:DAYLIGHT
BEGIN:STANDARD
TZOFFSETFROM:-0400
TZOFFSETTO:-0500
TZNAME:EST
DTSTART:20161106T060000
END:STANDARD
END:VTIMEZONE
BEGIN:VEVENT
DTSTART;TZID=America/New_York:20160512T090000
DTEND;TZID=America/New_York:20160512T110000
DTSTAMP:20210512T084603
CREATED:20160512T130000Z
LAST-MODIFIED:20191201T150043Z
UID:412153-1463043600-1463050800@www.patriotguard.org
SUMMARY:James Okabe Rodriguez\, USA
DESCRIPTION:James Okabe Rodriguez (Coach Jimmy)\nVietnam\, Army\nLas Cruces\, NM\, 05-12-2016 \n\n\nJames Okabe Rodriguez served  in the U.S. Army in Vietnam for 3 years where he earned various medals  including a Bronze star with one oak leaf cluster. He obtained the rank  of SP5. \nHe was active in his local community where he coached girls fast  pitch softball for 30 years. He also owned and operated a restaurant.\n\nPRIMARY STAGING INFO – 05-12-2016:  Location:    Our Lady of Guadalupe Catholic Church\n3600 Paroquia Street\nLas Cruces\, NM\n\n StagingTime:    12:15 pm \n  Special Instructions:\n\nA rosary will be said at 1230 hours followed by a funeral mass at 1300  (1:00 pm). \nEscort to Hillcrest Cemetery will begin at approximately 1400  hours (2:00 pm). \nWe will stage at the church at 1215 hours\, flag line at  1220 and escort to the cemetery after the funeral mass. \nWe will provide a  flag line at the grave site.  \nPlease be prepared for a long initial  flag line in the morning heat and direct sunlight. \nWater and flags will  be provided.\n\nRemember to ride with  the PGR all you have to be is a patriot. No previous military service is  required\, nor do you have to have a motorcycle. All you have to do is  be able to carry a flag which we will provide. Please contact me with  any questions. \nRCIC:    Jim “Deacon Jim” Ernst – jimernst@q.com – [URL=”callto:+1575-430-3904″]575-430-3904[/URL] \n    Flags will be provided. \nLarge bike flags will be needed. \nWeather:     Mid to High 80’s\, mostly sunny
URL:https://www.patriotguard.org/mission/james-okabe-rodriguez-usa/
CATEGORIES:Archive
END:VEVENT
END:VCALENDAR