BEGIN:VCALENDAR
VERSION:2.0
PRODID:-//Patriot Guard Riders - ECPv5.3.2.1//NONSGML v1.0//EN
CALSCALE:GREGORIAN
METHOD:PUBLISH
X-WR-CALNAME:Patriot Guard Riders
X-ORIGINAL-URL:https://www.patriotguard.org
X-WR-CALDESC:Events for Patriot Guard Riders
BEGIN:VTIMEZONE
TZID:America/New_York
BEGIN:DAYLIGHT
TZOFFSETFROM:-0500
TZOFFSETTO:-0400
TZNAME:EDT
DTSTART:20190310T070000
END:DAYLIGHT
BEGIN:STANDARD
TZOFFSETFROM:-0400
TZOFFSETTO:-0500
TZNAME:EST
DTSTART:20191103T060000
END:STANDARD
END:VTIMEZONE
BEGIN:VEVENT
DTSTART;VALUE=DATE:20190920
DTEND;VALUE=DATE:20190921
DTSTAMP:20210401T092923
CREATED:20190919T134258Z
LAST-MODIFIED:20190919T134258Z
UID:175363-1568937600-1569023999@www.patriotguard.org
SUMMARY:James O. Garrett
DESCRIPTION:Honor Mission\nJames O. Garrett\, Veteran\nUSAF\nDallas\, Texas – 09-20-19\n\n\n \n\nABOUT THE MISSION: \nMr. Garrett served from 1962-1966 as a Military Policeman.\n\n\nPRIMARY STAGING DETAILS: 09-20-19 \nStaging Time: 10:30 am\n \nSt. Paul Lutheran Church\n5725 South Marsalis Avenue\nDallas\, Texas 75241\n\n\nRide Captain: \nJeffrey Wikeasm\n757@att.net\n(817) 301-4293\n\n\nSpecial Instructions: \nStarting Time 11:30 am\nAfter the mission brief\, the riders will establish the Flag Line and await the arrival of Mr. Garrett’s family and friends. When directed\, the riders will return the flags to the support vehicle\, receive the safety briefing and prepare to accompany the procession to the cemetery. Riders not participating in the procession will reconvene at DFWNC and assist with setting the flags. Procession Escort Provided\n\nFlags & Water:\nFlags will be provided\nIf you have large bike flags\, please bring them.\nWater will be provided.\n\nSTAGING #2 DETAILS: 09-20-19 \nStaging Time: 1:45 pm\n \nDFW National Cemetery\n2000 Mountain Creek Pkwy\nDallas\, Texas 75211\n\n\nRide Captain: \nJeffrey Wikeasm\n757@att.net\n(817) 301-4293\n\n\nSpecial Instructions: \nStarting Time 2:30pm\nRiders will stage at the DFW National Cemetery Visitor’s Center for a short mission brief. If needed\, Honor Bikes will be selected and they will move to the appropriate staging lane in preparation for the procession to the committal shelter. The remaining riders will move to the designated shelter\, set the flags and establish the Flag Line to await the arrival of Mr. Garrett\, family and friends. When directed\, riders will return the flags to the storage area\, have a short debriefing and be dismissed.\n\nFlags & Water:\nFlags will be provided\nIf you have large bike flags\, please bring them.\nWater will be provided.\n\n\n\nSubmitted By: Dan Mathys \nPosition: Texas Ride Captain \n\nNote: You do not have to own/ride a motorcycle or be a veteran to join\, and membership is Free. The only requirement is RESPECT! To subscribe to receive mission notices\, log into the National Site and click on the Members tab at the top. Select the Subscribe to PGR Missions option.\n Print This Page
URL:https://www.patriotguard.org/mission/james-o-garrett/
CATEGORIES:Honor Mission
END:VEVENT
END:VCALENDAR