BEGIN:VCALENDAR
VERSION:2.0
PRODID:-//Patriot Guard Riders - ECPv5.6.0//NONSGML v1.0//EN
CALSCALE:GREGORIAN
METHOD:PUBLISH
X-WR-CALNAME:Patriot Guard Riders
X-ORIGINAL-URL:https://www.patriotguard.org
X-WR-CALDESC:Events for Patriot Guard Riders
BEGIN:VTIMEZONE
TZID:America/New_York
BEGIN:DAYLIGHT
TZOFFSETFROM:-0500
TZOFFSETTO:-0400
TZNAME:EDT
DTSTART:20160313T070000
END:DAYLIGHT
BEGIN:STANDARD
TZOFFSETFROM:-0400
TZOFFSETTO:-0500
TZNAME:EST
DTSTART:20161106T060000
END:STANDARD
END:VTIMEZONE
BEGIN:VEVENT
DTSTART;TZID=America/New_York:20160606T090000
DTEND;TZID=America/New_York:20160606T110000
DTSTAMP:20210513T155431
CREATED:20160606T130000Z
LAST-MODIFIED:20191201T145405Z
UID:411557-1465203600-1465210800@www.patriotguard.org
SUMMARY:James Nagel
DESCRIPTION:Honor Mission \n\n\nThe Family of James Nagel has invited the Patriot Guard Riders to Stand in Honor of his Service to our Country. Mr. Nagel served in the US Army in Europe 4th Armored Division in 1970.\n \nSTAGING:\nMcDonald’s\n15187 N. Holly Rd.\nHolly MI. 48442\n \nMAP: http://mapq.st/20ZmQW7\n \nSTAGE:                 12:15 PM\nBRIEF:                   1:00 PM\nKSU:                      1:35 PM\n \nPlease Bring your 3×5 Flags to Stand for James Nagel\n\n\nRC: SKEETER (586-524-808\n\n—\nPosted per SHERPA\nMichigan State Captain
URL:https://www.patriotguard.org/mission/james-nagel/
CATEGORIES:Archive
END:VEVENT
END:VCALENDAR