BEGIN:VCALENDAR
VERSION:2.0
PRODID:-//Patriot Guard Riders - ECPv5.6.0//NONSGML v1.0//EN
CALSCALE:GREGORIAN
METHOD:PUBLISH
X-WR-CALNAME:Patriot Guard Riders
X-ORIGINAL-URL:https://www.patriotguard.org
X-WR-CALDESC:Events for Patriot Guard Riders
BEGIN:VTIMEZONE
TZID:America/New_York
BEGIN:DAYLIGHT
TZOFFSETFROM:-0500
TZOFFSETTO:-0400
TZNAME:EDT
DTSTART:20160313T070000
END:DAYLIGHT
BEGIN:STANDARD
TZOFFSETFROM:-0400
TZOFFSETTO:-0500
TZNAME:EST
DTSTART:20161106T060000
END:STANDARD
END:VTIMEZONE
BEGIN:VEVENT
DTSTART;TZID=America/New_York:20160826T090000
DTEND;TZID=America/New_York:20160826T110000
DTSTAMP:20210512T033340
CREATED:20160826T130000Z
LAST-MODIFIED:20191201T143343Z
UID:409691-1472202000-1472209200@www.patriotguard.org
SUMMARY:James Michael Forester\, 68\, USA
DESCRIPTION:The Patriot Guard Riders have been honored with a request from the family of James Michael “Mike” Forester to stand a Flag Line and escort their loved one to his final resting place.\n\nMike served his country with honor and distinction in the United States Army during the Vietnam War and is a Purple Heart recipient.  Mike passed away on 22 August 2016 at the age of 68.\n\nThe PGR will stage at the Rolla APC Church located at 750 S. Rolla Street in Rolla\, MO on Friday 26 August 2016 at 9:45 am.  A briefing will be held at 10:00 am followed by a Flag Line from 10:15 am-11:00 am.  Following the service\, Mike will be escorted to his final resting place at Newburg Cemetery.\n\nTemperatures on Friday will be in the high 70’s.  Please\, HYDRATE\, HYDRATE\, HYDRATE.\n\nRide Captain in Charge:\nMark Williams\n573-465-2204
URL:https://www.patriotguard.org/mission/james-michael-forester-68-usa/
CATEGORIES:Archive
END:VEVENT
END:VCALENDAR