BEGIN:VCALENDAR
VERSION:2.0
PRODID:-//Patriot Guard Riders - ECPv5.6.0//NONSGML v1.0//EN
CALSCALE:GREGORIAN
METHOD:PUBLISH
X-WR-CALNAME:Patriot Guard Riders
X-ORIGINAL-URL:https://www.patriotguard.org
X-WR-CALDESC:Events for Patriot Guard Riders
BEGIN:VTIMEZONE
TZID:America/New_York
BEGIN:DAYLIGHT
TZOFFSETFROM:-0500
TZOFFSETTO:-0400
TZNAME:EDT
DTSTART:20160313T070000
END:DAYLIGHT
BEGIN:STANDARD
TZOFFSETFROM:-0400
TZOFFSETTO:-0500
TZNAME:EST
DTSTART:20161106T060000
END:STANDARD
END:VTIMEZONE
BEGIN:VEVENT
DTSTART;TZID=America/New_York:20160531T090000
DTEND;TZID=America/New_York:20160531T110000
DTSTAMP:20210513T145359
CREATED:20160531T130000Z
LAST-MODIFIED:20191201T145548Z
UID:411714-1464685200-1464692400@www.patriotguard.org
SUMMARY:James Merritt\, 81\, USA
DESCRIPTION:James Merritt\, 81\nUS Army Korean War\nRoseburg OR\n31/MAY/16\n\n\n\nLadies and Gentlemen of the Patriot Guard Riders\, we have been invited by the family of James Merritt\, US Army Korean War Veteran to stand to honor him at his memorial service. \nAs one of the members of the “overlooked war” we have this opportunity to demonstrate our appreciation for his sacrifices. Please help us honor James and his family. \nMission Date:  Tuesday\, 31/MAY/16 \nRide Captains:  Sparky/Terry Mooney\,  linda.mooney@earthlink.net \nStaging Location: Roseburg National Cemetery Annex\, South Entrance of the VAHCS off West Harvard\, Roseburg Oregon \nStaging Time: 1215 hrs \nFlag line Set: 1230 hrs \nService Begins:  1300 hrs \n**Flags will be available.
URL:https://www.patriotguard.org/mission/james-merritt-81-usa/
CATEGORIES:Archive
END:VEVENT
END:VCALENDAR