BEGIN:VCALENDAR
VERSION:2.0
PRODID:-//Patriot Guard Riders - ECPv5.6.0//NONSGML v1.0//EN
CALSCALE:GREGORIAN
METHOD:PUBLISH
X-WR-CALNAME:Patriot Guard Riders
X-ORIGINAL-URL:https://www.patriotguard.org
X-WR-CALDESC:Events for Patriot Guard Riders
BEGIN:VTIMEZONE
TZID:America/New_York
BEGIN:DAYLIGHT
TZOFFSETFROM:-0500
TZOFFSETTO:-0400
TZNAME:EDT
DTSTART:20160313T070000
END:DAYLIGHT
BEGIN:STANDARD
TZOFFSETFROM:-0400
TZOFFSETTO:-0500
TZNAME:EST
DTSTART:20161106T060000
END:STANDARD
END:VTIMEZONE
BEGIN:VEVENT
DTSTART;TZID=America/New_York:20160711T090000
DTEND;TZID=America/New_York:20160711T110000
DTSTAMP:20210513T000051
CREATED:20160711T130000Z
LAST-MODIFIED:20191201T144442Z
UID:410705-1468227600-1468234800@www.patriotguard.org
SUMMARY:James Maurice Williams\, 79
DESCRIPTION:A1C James Maurice Williams\, 79\nUSAF Veteran\nSpringfield\, MO\nMonday\, July 11\, 2016\n\n\n\nThe  Patriot Guard Riders have been honored with a family request of USAF  veteran\, James Maurice Williams\, 79\, to stand in honors of their beloved  American hero.\n\n\n\nA1C Williams served 4 years\,  November1955 to November 1959\, with honor and distinction as an Aircraft  Mechanic in the US Air Force attaining the rank of Airman First  Class. Hero Williams served at McClellan AFB\, California.  Hero Williams  is a recipient of the Good Conduct Medal and the Air Force Longevity  Service Award.\n\n\nStage:  12:15 p.m. at Greenlawn South\, 441 W. Battlefield\, Springfield MO\n\n\nBriefing: 12:30 p.m.\n\n\nFlag line: Immediately following the briefing. \n\n\nEscort: Following the memorial services\, to\nEastlawn Cemetery\n2244 E.\nPythian\, Springfield \n\n\nMilitary honors will be extended at the cemetery. \nRandall Latch \nRide Captain \nrandalllatch@gmail.com;\n(417) 839-2039 \n\n\nFlag Support\nHolly Anthony \ngofer12.ha@gmail.com
URL:https://www.patriotguard.org/mission/james-maurice-williams-79/
CATEGORIES:Archive
END:VEVENT
END:VCALENDAR