BEGIN:VCALENDAR
VERSION:2.0
PRODID:-//Patriot Guard Riders - ECPv5.3.2.1//NONSGML v1.0//EN
CALSCALE:GREGORIAN
METHOD:PUBLISH
X-WR-CALNAME:Patriot Guard Riders
X-ORIGINAL-URL:https://www.patriotguard.org
X-WR-CALDESC:Events for Patriot Guard Riders
BEGIN:VTIMEZONE
TZID:America/New_York
BEGIN:DAYLIGHT
TZOFFSETFROM:-0500
TZOFFSETTO:-0400
TZNAME:EDT
DTSTART:20180311T070000
END:DAYLIGHT
BEGIN:STANDARD
TZOFFSETFROM:-0400
TZOFFSETTO:-0500
TZNAME:EST
DTSTART:20181104T060000
END:STANDARD
END:VTIMEZONE
BEGIN:VEVENT
DTSTART;TZID=America/New_York:20180427T150000
DTEND;TZID=America/New_York:20180427T170000
DTSTAMP:20210401T183133
CREATED:20180427T190000Z
LAST-MODIFIED:20200725T200427Z
UID:338359-1524841200-1524848400@www.patriotguard.org
SUMMARY:James Marvin Bunch\, Veteran\, USMC - Vietnam
DESCRIPTION:Honor Mission\nJames Marvin Bunch\, Veteran\nUSMC – Vietnam\nWashington Court House\, Ohio – 27 Apr 2018\n\n\nABOUT THE MISSION: \nObituary: https://tinyurl.com/yc2zjzp5\nPRIMARY STAGING DETAILS: 27 Apr 2018\nPrimary Staging Time: 3:00 P.M. \nAnchor Baptist Church\n456 Jamison Road\nWashington Court House\, Ohio – 43160\nhttps://goo.gl/maps/NbsyrzMTMA32\nRide Captain: \nKeith Liptak \nklip588@yahoo.com\n\nSpecial Instructions:\n\nFlags & Water: \nFlags Will NOT Be Provided\, Please Bring Your Own.\nLarge Bike Flags will NOT be needed.\nWater WILL NOT be provided\, please bring your own.\n\n\nSTAGING #2 DETAILS: 28 Apr\, 2018\nStaging #2 Time: 8:30 A.M. \nAnchor Baptist Church\n456 Jamison Road\nWashington Court House\, Ohio – 43160\nhttps://goo.gl/maps/NbsyrzMTMA32\nRide Captain: \nKeith Liptak \nklip588@yahoo.com\nSpecial Instructions: \nThe end of the Service will conclude our mission\nFlags & Water: \nFlags Will NOT Be Provided\, Please Bring Your Own.\nLarge Bike Flags will NOT be needed\nWater WILL NOT be provided\, please bring your own.\n  \n\nSubmitted By: Robert Woods\nPosition: State Captain \n\nNote:\nYou do not have to own/ride a motorcycle or be a Veteran to join and membership is Free. The only requirement is RESPECT! To join\, simply go to www.PatriotGuard.org and click on Register. Membership is Free. \nTo subscribe to receive mission notices\, log into the National Site and click on the Mission Tab at the top. Select the Subscribe to Missions option.
URL:https://www.patriotguard.org/mission/james-marvin-bunch-veteran-usmc-vietnam/
LOCATION:Jeffry John Luce
CATEGORIES:Honor Mission
END:VEVENT
END:VCALENDAR