BEGIN:VCALENDAR
VERSION:2.0
PRODID:-//Patriot Guard Riders - ECPv5.3.2.1//NONSGML v1.0//EN
CALSCALE:GREGORIAN
METHOD:PUBLISH
X-WR-CALNAME:Patriot Guard Riders
X-ORIGINAL-URL:https://www.patriotguard.org
X-WR-CALDESC:Events for Patriot Guard Riders
BEGIN:VTIMEZONE
TZID:America/New_York
BEGIN:DAYLIGHT
TZOFFSETFROM:-0500
TZOFFSETTO:-0400
TZNAME:EDT
DTSTART:20190310T070000
END:DAYLIGHT
BEGIN:STANDARD
TZOFFSETFROM:-0400
TZOFFSETTO:-0500
TZNAME:EST
DTSTART:20191103T060000
END:STANDARD
END:VTIMEZONE
BEGIN:VEVENT
DTSTART;VALUE=DATE:20190701
DTEND;VALUE=DATE:20190702
DTSTAMP:20210404T044001
CREATED:20190628T193223Z
LAST-MODIFIED:20190628T193223Z
UID:166204-1561939200-1562025599@www.patriotguard.org
SUMMARY:James Lester Robertson
DESCRIPTION:Honor Mission\nJames Lester Robertson\, Veteran\nUSAF\nSaint Charles\, Missouri – 07-01-19\n\n\n\n\nABOUT THE MISSION: \nThe Patriot Guard Riders\, at the family’s request\, have been invited to stand a flag line for United States Air Force Veteran James Lester Robertson\, 87\, and escort him to his final resting place at Jefferson Barracks National Cemetery where he will receive full military honors. Veteran Robertson served in the U.S. Air Force from December 1951 to December 1955\, with 3 years of foreign service.  Veteran Robertson attained the rank of Airman First Class (A1C) and was awarded the National Defense Service Medal and the Army of Occupation of Germany Medal.   Airman First Class Robertson\, a grateful nation thanks you and is indebted to you for your honorable service.  Your sacrifices have granted us the freedoms we continue to enjoy to this very day.  Thank you and Godspeed.\n\n\nPRIMARY STAGING DETAILS: 07-01-19 \nStaging Time: 8:30 am \nBaue Funeral Home\n3950 West Clay Street (Northwest quadrant of the I-70 intersection with Cave Springs Road)\nSaint Charles\, Missouri 63301\n\n\nRide Captain: \nDan “Lt. Dan” Doerer\n(314) 576-5856\nj_d_doerer2att.net\nFlags & Support: Mike “Jenky” Jenkins\n\n\nSpecial Instructions: \n08:30 AM  Stage\, Ride Meeting and flag line.\n08:45 AM:  Family Arrival\n09:30 AM:  Service\n10:00 AM:  Escort to Jefferson Barracks National Cemetery\n11:30 AM:  Committal Service with military honors and interment.\nThe current NWS forecast during this mission is 78º – 89º\, with a 1% chance of rain.  Travel and dress accordingly.  Any type of vehicle is welcome.\n\nFlags & Water:\nFlags will be provided\nIf you have large bike flags\, please bring them.\nWater will be provided.\n\n\n\n\nSubmitted By: Dan Doerer \nPosition: Missouri Ride Captain \n\nNote: You do not have to own/ride a motorcycle or be a veteran to join\, and membership is Free. The only requirement is RESPECT! To subscribe to receive mission notices\, log into the National Site and click on the Members tab at the top. Select the Subscribe to PGR Missions option.\n Print This Page
URL:https://www.patriotguard.org/mission/james-lester-robertson/
CATEGORIES:Honor Mission
END:VEVENT
END:VCALENDAR