BEGIN:VCALENDAR
VERSION:2.0
PRODID:-//Patriot Guard Riders - ECPv5.6.0//NONSGML v1.0//EN
CALSCALE:GREGORIAN
METHOD:PUBLISH
X-WR-CALNAME:Patriot Guard Riders
X-ORIGINAL-URL:https://www.patriotguard.org
X-WR-CALDESC:Events for Patriot Guard Riders
BEGIN:VTIMEZONE
TZID:America/New_York
BEGIN:DAYLIGHT
TZOFFSETFROM:-0500
TZOFFSETTO:-0400
TZNAME:EDT
DTSTART:20160313T070000
END:DAYLIGHT
BEGIN:STANDARD
TZOFFSETFROM:-0400
TZOFFSETTO:-0500
TZNAME:EST
DTSTART:20161106T060000
END:STANDARD
END:VTIMEZONE
BEGIN:VEVENT
DTSTART;TZID=America/New_York:20160815T090000
DTEND;TZID=America/New_York:20160815T110000
DTSTAMP:20210512T053013
CREATED:20160815T130000Z
LAST-MODIFIED:20191201T143634Z
UID:409955-1471251600-1471258800@www.patriotguard.org
SUMMARY:James L. Brown\, USAF
DESCRIPTION:Kentucky has lost another hero…. \n \n\nJames L. Brown\nAirman Third Class\nKorean War Veteran\n\n\nMr. Brown served with the 8th Communication Construction Squadron\, was awarded Korean Service Medal\, United Nations Service Medal\, National Defense Service Medal and 1 Bronze Star Korean Service Medal.  He will be interred on August 15\, 2016 with military honors.\nWe have been asked by the family and will stand in his honor at Muster Funeral Home and at his final resting place at the Oak Hill Cemetery. \nMonday 15 August 2016\n\nMuster Funeral Home\n212 Broadway\nLivermore\, KY 42352 \n8:30 AM Stage and Stake Flags\n9:00 AM Public Visitation/Flag Line\n11:00 AM Service Begins with Final Salute \nFollowing the service\, we will escort Mr. Brown to the Oak Hill Cemetery in Livermore\, KY and stand in honor with a flag line. \nOak Hill Cemetery\n811 Hinton Street\nLivermore\, KY 42352 \nPlease be prepared for the weather conditions and Ride Safely. \nSENIOR RIDE CAPTAIN(S)\nJeff Free jeff.free@bigrivers.com\nSandy Free sfree@audubon-area.com
URL:https://www.patriotguard.org/mission/james-l-brown-usaf/
CATEGORIES:Archive
END:VEVENT
END:VCALENDAR