BEGIN:VCALENDAR
VERSION:2.0
PRODID:-//Patriot Guard Riders - ECPv5.6.0//NONSGML v1.0//EN
CALSCALE:GREGORIAN
METHOD:PUBLISH
X-WR-CALNAME:Patriot Guard Riders
X-ORIGINAL-URL:https://www.patriotguard.org
X-WR-CALDESC:Events for Patriot Guard Riders
BEGIN:VTIMEZONE
TZID:America/New_York
BEGIN:DAYLIGHT
TZOFFSETFROM:-0500
TZOFFSETTO:-0400
TZNAME:EDT
DTSTART:20160313T070000
END:DAYLIGHT
BEGIN:STANDARD
TZOFFSETFROM:-0400
TZOFFSETTO:-0500
TZNAME:EST
DTSTART:20161106T060000
END:STANDARD
END:VTIMEZONE
BEGIN:VEVENT
DTSTART;TZID=America/New_York:20160808T090000
DTEND;TZID=America/New_York:20160808T110000
DTSTAMP:20210511T190722
CREATED:20160808T130000Z
LAST-MODIFIED:20191201T143740Z
UID:410061-1470646800-1470654000@www.patriotguard.org
SUMMARY:James Joseph Aschberger\, 70
DESCRIPTION:HONOR MISSION\n\n\n\nOur great State of Tennessee and the people of Memphis have lost another Veteran Hero… James Joseph Aschberger\, 70\, passed away on Thursday\, 04 August 2016.  He served our country honorably in the United States Navy. Mr. Aschberger’s wife has invited the Patriot Guard Riders to honor her husband and the family. (Please come out to Honor this Veteran) \nVISITATION: 1 – 2 PM\, Monday\, August 8\, 2016\, at the cemetery chapel\, PGR will provide an Honor Flag line prior to the funeral service\, at: \nElmwood Cemetery\n824 S. Dudley St.\, Memphis\, TN 38104 \nSTAGING: 12:45 PM \nSERVICE: 2 PM \nINTERMENT: Follows immediately after the funeral service at the far west side of cemetery. \nRCIC: Johnny Rivera [URL=”tel:901-488-7537″]901-488-7537[/URL]\nRC/SV: Lynne Frazier Overman\, [URL=”tel:901-494-7005″]901-494-7005[/URL] \nWEATHER: MON 8 AUG\, CLOUDY\, 91°\, PRECIP 20% WIND NNE AT 9 MPH\n(The heat index may exceed 100°\, please hydrate) \nNote: if you don’t own or ride a motorcycle\, automobiles are always welcome on all missions…You don’t have to be a Veteran to stand on the flag line\, to Honor a Veteran or First Responder (Police\, Fire or EMS) killed in the line of duty. Treat other PGR members with the same dignity and respect you would expect for yourself.
URL:https://www.patriotguard.org/mission/james-joseph-aschberger-70/
CATEGORIES:Archive
END:VEVENT
END:VCALENDAR