BEGIN:VCALENDAR
VERSION:2.0
PRODID:-//Patriot Guard Riders - ECPv5.3.2.1//NONSGML v1.0//EN
CALSCALE:GREGORIAN
METHOD:PUBLISH
X-WR-CALNAME:Patriot Guard Riders
X-ORIGINAL-URL:https://www.patriotguard.org
X-WR-CALDESC:Events for Patriot Guard Riders
BEGIN:VTIMEZONE
TZID:America/New_York
BEGIN:DAYLIGHT
TZOFFSETFROM:-0500
TZOFFSETTO:-0400
TZNAME:EDT
DTSTART:20170312T070000
END:DAYLIGHT
BEGIN:STANDARD
TZOFFSETFROM:-0400
TZOFFSETTO:-0500
TZNAME:EST
DTSTART:20171105T060000
END:STANDARD
END:VTIMEZONE
BEGIN:VEVENT
DTSTART;TZID=America/New_York:20170420T093000
DTEND;TZID=America/New_York:20170420T113000
DTSTAMP:20210401T210717
CREATED:20170420T133000Z
LAST-MODIFIED:20191201T030810Z
UID:312590-1492680600-1492687800@www.patriotguard.org
SUMMARY:James (Jim) McKenzie \, Veteran\, USA - Vietnam
DESCRIPTION:James (Jim) McKenzie\, Veteran \nUSA  – Vietnam \nFort Morgan\, Colorado – 20 Apr 2017\n\n\n[HR][/HR] \n\n\nABOUT THE MISSION: \nThe Patriot Guard Riders have been invited to attend the Funeral and  Interment for James (Jim) McKenzie\, USA Veteran\, on Thursday\, April 20\,  2017 at Heer Mortuary\, 225 E. Platte Ave.\, Fort Morgan\, CO at 10:30 AM.  The funeral will be followed by the interment at Adena Cemetery\, which  is about 20 miles south of Fort Morgan. \nMr. McKenzie was born on May 3\, 1950 and died on April 15\, 2017 at the  age of 66. He served in the US Army during Viet Nam and was MIA for 48  days. He was also held POW for a short period of time. \nPRIMARY STAGING DETAILS:  20 Apr 2017 \n\n\n\nPrimary Staging Time:  09:30 A.M.\n\nHeer Mortuary\n225 E. Platte Ave\n\nFort Morgan\, Colorado –\n\n\n\n\n\n\n\nRide Captain:\n\nJay Weisgergber\nrrcannonball@yahoo.com\n308-760-0887\n\n\n\n\nSpecial Instructions:\n\n\n\n\n\n\n\nFlags & Water:\n\nFlags Will Be Provided\n\nLarge Bike Flags will NOT be needed.\n\nWater WILL NOT be provided\, please bring your own.\n\nSubmitted By:  Lisa Menard\nPosition:  State Captain \n[HR][/HR]\nNote:\nYou do not have to own/ride a motorcycle or be a Veteran to join and membership is Free. The only requirement is RESPECT! To join\, simply go to www.PatriotGuard.org and click on Register. Membership is Free. \nTo subscribe to receive mission notices\, log into the National Site and  click on the Mission Tab at the top. Select Upcoming Missions by State.  Scroll to the state(s) you would like to receive notices for and click  on the green check mark. Detailed instructions are also located in the  FAQs on the site by clicking on the Quick Links Tab and selecting FAQs.
URL:https://www.patriotguard.org/mission/james-jim-mckenzie-veteran-usa-vietnam/
END:VEVENT
END:VCALENDAR