BEGIN:VCALENDAR
VERSION:2.0
PRODID:-//Patriot Guard Riders - ECPv5.3.2.1//NONSGML v1.0//EN
CALSCALE:GREGORIAN
METHOD:PUBLISH
X-WR-CALNAME:Patriot Guard Riders
X-ORIGINAL-URL:https://www.patriotguard.org
X-WR-CALDESC:Events for Patriot Guard Riders
BEGIN:VTIMEZONE
TZID:America/New_York
BEGIN:DAYLIGHT
TZOFFSETFROM:-0500
TZOFFSETTO:-0400
TZNAME:EDT
DTSTART:20190310T070000
END:DAYLIGHT
BEGIN:STANDARD
TZOFFSETFROM:-0400
TZOFFSETTO:-0500
TZNAME:EST
DTSTART:20191103T060000
END:STANDARD
END:VTIMEZONE
BEGIN:VEVENT
DTSTART;VALUE=DATE:20190706
DTEND;VALUE=DATE:20190707
DTSTAMP:20210403T195143
CREATED:20190705T032655Z
LAST-MODIFIED:20190705T032913Z
UID:166665-1562371200-1562457599@www.patriotguard.org
SUMMARY:James "Jim" C. Crabtree Jr.
DESCRIPTION:Honor Mission\nJames “Jim” C. Crabtree Jr.\nUSA – WWII\nSpringdale\, Arkansas – 07-06-19\n\n\n\nABOUT THE MISSION: \nJim was born on April 29\, 1921 in Neosho\, Missouri\, a son of James Chester Crabtree\, Sr. and Emma Testerman Crabtree. He was the widower of the late Bernice Sherer Crabtree\, who preceded him in death in 2012\, after 70 years of marriage. Jim worked as an engineer for the Rocketdyne Co in Neosho and the Sperry Vickers Co in Joplin. He served in the Army Signal Corps during World War II in the South Pacific. He enjoyed hunting\, fishing\, playing golf and had lived on Grand Lake for several years. He was a member of the Unionville Masonic Lodge #33 in Unionville\, Missouri and a member of the York Rite Masonic bodies.\nObituary\n\n\nPRIMARY STAGING DETAILS: 07-06-19 \nStaging Time: 2:00 PM\n \nBackstrom-Pyeatte Funeral Home\n2230 N Thompson\nSpringdale\, Arkansas 72762\nMap\n\n\nRide Captain: \nGreg “Weebles” Weeks\nweeblespgr@att.net\n479-466-8586\n\nAsst: Cliff “Ol Man” Olson\, colson67@hotmail.com\, 479-301-4361\n\n\nSpecial Instructions: \nStaging at 2pm\nBriefing at 2:15\nFlag line from 2:30-3:00\n\n\nFlags & Water:\nFlags will be provided\nLarge Bike Flags will NOT be needed.\nWater will be provided.\n\n\n\nSubmitted By: Gregory Weeks \nPosition: Arkansas Ride Captain\n\n\nNote: You do not have to own/ride a motorcycle or be a veteran to join\, and membership is Free. The only requirement is RESPECT! To subscribe to receive mission notices\, log into the National Site and click on the Members tab at the top. Select the Subscribe to PGR Missions option.\n Print This Page
URL:https://www.patriotguard.org/mission/james-jim-c-crabtree-jr/
CATEGORIES:Honor Mission
END:VEVENT
END:VCALENDAR