BEGIN:VCALENDAR
VERSION:2.0
PRODID:-//Patriot Guard Riders - ECPv5.3.2.1//NONSGML v1.0//EN
CALSCALE:GREGORIAN
METHOD:PUBLISH
X-WR-CALNAME:Patriot Guard Riders
X-ORIGINAL-URL:https://www.patriotguard.org
X-WR-CALDESC:Events for Patriot Guard Riders
BEGIN:VTIMEZONE
TZID:America/New_York
BEGIN:DAYLIGHT
TZOFFSETFROM:-0500
TZOFFSETTO:-0400
TZNAME:EDT
DTSTART:20190310T070000
END:DAYLIGHT
BEGIN:STANDARD
TZOFFSETFROM:-0400
TZOFFSETTO:-0500
TZNAME:EST
DTSTART:20191103T060000
END:STANDARD
END:VTIMEZONE
BEGIN:VEVENT
DTSTART;VALUE=DATE:20190607
DTEND;VALUE=DATE:20190608
DTSTAMP:20210405T042519
CREATED:20190606T140122Z
LAST-MODIFIED:20190606T140122Z
UID:163749-1559865600-1559951999@www.patriotguard.org
SUMMARY:James "Jim" A. Morrissey
DESCRIPTION:Honor Mission\nJames “Jim” A. Morrissey\, Veteran\nUSMC – Vietnam\nFenton\, Missouri – 06-07-19\n\n\n\n\nABOUT THE MISSION: \nPlease join us in standing a flag line of honor and respect for U.S. Marine Corps veteran James Morrissey\, just as he once stood for every one of us.  Hero Morrissey entered into the U.S.M.C. in 1965 and served through 1967 during the Vietnam conflict.  In addition to protecting his country and preserving its freedoms\, Mr. Morrissey earned the rank of Corporal\, and achieved awards including the National Defense Service Medal\, Vietnam Campaign Medal with 60 device\, Vietnam Service Medal with 1 Bronze Star\, Combat Action Ribbon\, and the Presidential Unit Citation.\n\n\nPRIMARY STAGING DETAILS: 06-07-19 \nStaging Time: 11:15 am \nJay B. Smith – Fenton Chapel\n777 Oakwood Dr.\nFenton\, Missouri 63026\n\n\nRide Captain: \nJeff ‘Tattoo’ Hirsch\njeff.stlpgr@gmail.com\n\n\nSpecial Instructions: \nPlease arrive quietly as visitation will be in progress.  R.E.D. Shirt Friday\n11:15 am – Ride meeting w/ flag line to follow\n12:15 pm – Funeral service\n1:00 pm – Honor escort to Jefferson Barracks National Cemetery (12 miles)\n1:30  pm – Military Honors.  Flags / Support – TBD\n\nFlags & Water:\nFlags will be provided\nIf you have large bike flags\, please bring them.\nWater will be provided.\n\n\n\nSubmitted By: Jeff Hirsch \nPosition: Missouri Ride Captain \n\nNote: You do not have to own/ride a motorcycle or be a veteran to join\, and membership is Free. The only requirement is RESPECT! To subscribe to receive mission notices\, log into the National Site and click on the Members tab at the top. Select the Subscribe to PGR Missions option.\n Print This Page
URL:https://www.patriotguard.org/mission/james-jim-a-morrissey/
CATEGORIES:Honor Mission
END:VEVENT
END:VCALENDAR