BEGIN:VCALENDAR
VERSION:2.0
PRODID:-//Patriot Guard Riders - ECPv5.3.2.1//NONSGML v1.0//EN
CALSCALE:GREGORIAN
METHOD:PUBLISH
X-WR-CALNAME:Patriot Guard Riders
X-ORIGINAL-URL:https://www.patriotguard.org
X-WR-CALDESC:Events for Patriot Guard Riders
BEGIN:VTIMEZONE
TZID:America/New_York
BEGIN:DAYLIGHT
TZOFFSETFROM:-0500
TZOFFSETTO:-0400
TZNAME:EDT
DTSTART:20210314T070000
END:DAYLIGHT
BEGIN:STANDARD
TZOFFSETFROM:-0400
TZOFFSETTO:-0500
TZNAME:EST
DTSTART:20211107T060000
END:STANDARD
END:VTIMEZONE
BEGIN:VEVENT
DTSTART;VALUE=DATE:20210331
DTEND;VALUE=DATE:20210401
DTSTAMP:20210402T045152
CREATED:20210330T102322Z
LAST-MODIFIED:20210330T102322Z
UID:573280-1617148800-1617235199@www.patriotguard.org
SUMMARY:James Ivan Carlson
DESCRIPTION:Honor Mission\nJames Ivan Carlson\, Veteran\nUSA\nMaple Valley\, Washington – 03-31-21\nShort Notice\n\n\n\nABOUT THE MISSION: \nWe have been asked to come out and honor James Ivan Carlson\, US Army. More details about this HERO will be provided at the mission briefing.\n\n\nPRIMARY STAGING DETAILS: 03-31-21 \nStaging Time: 12:30 PM \nMcDonald’s\n23225 Maple Valley Black Diamond Rd. SE\nMaple Valley\, Washington 98038\n\n\nRide Captain: \nKevin “Wolf” Rose\n(425) 417-7905\nvoyager.rider13@gmail.com\n\nMike “Polar Bear” Collins\n(360) 871-1474\nironhorse15ml@yahoo.com\n\nSV: Veronica “V” Port\n(206) 497-8796\nveronicaport@hotmail.com\n\nAssisting: Dean Thiem\n360-969-1755\ndftcars198@comcast.net\n\n\nSpecial Instructions: \nMission briefing: 1:00 pm\nKSU: 1:15 pm\n\nEstablish flag line at designated shelter:1:30 pm\nService begins: 1:45 pm (Or end of service)\,\nPost and move to other shelter for the 2 PM Service.\n\nPer current Covid pandemic mandates\, all Patriot Guard Riders are required to wear an appropriate face covering and physical distancing will be observed.\nIf you are not able to wear a mask for any reason\, out of respect for the family and everyone’s health\, please do not attend.\n\n\nFlags & Water:\nFlags will be provided\nLarge Bike Flags will NOT be needed.\nWater will be provided.\n\n\n\nSubmitted By: Dean Thiem \nPosition: Washington Ride Captain \n\nNote: You do not have to own/ride a motorcycle or be a veteran to join\, and membership is Free. The only requirement is RESPECT! To subscribe to receive mission notices\, log into the National Site and click on the Members tab at the top. Select the Subscribe to PGR Missions option.\n Print This Page
URL:https://www.patriotguard.org/mission/james-ivan-carlson/
CATEGORIES:Honor Mission
END:VEVENT
END:VCALENDAR