BEGIN:VCALENDAR
VERSION:2.0
PRODID:-//Patriot Guard Riders - ECPv5.3.2.1//NONSGML v1.0//EN
CALSCALE:GREGORIAN
METHOD:PUBLISH
X-WR-CALNAME:Patriot Guard Riders
X-ORIGINAL-URL:https://www.patriotguard.org
X-WR-CALDESC:Events for Patriot Guard Riders
BEGIN:VTIMEZONE
TZID:America/New_York
BEGIN:DAYLIGHT
TZOFFSETFROM:-0500
TZOFFSETTO:-0400
TZNAME:EDT
DTSTART:20190310T070000
END:DAYLIGHT
BEGIN:STANDARD
TZOFFSETFROM:-0400
TZOFFSETTO:-0500
TZNAME:EST
DTSTART:20191103T060000
END:STANDARD
END:VTIMEZONE
BEGIN:VEVENT
DTSTART;VALUE=DATE:20190829
DTEND;VALUE=DATE:20190830
DTSTAMP:20210402T130122
CREATED:20190828T210417Z
LAST-MODIFIED:20190828T210417Z
UID:172197-1567036800-1567123199@www.patriotguard.org
SUMMARY:James Henry Hamilton
DESCRIPTION:Honor Mission\nJames Henry Hamilton\, Veteran\nUSA – Vietnam\nCanton\, Georgia – 08-29-19\n\n\n ABOUT THE MISSION:\n\n\nThe family of James Hamilton has asked the Patriot Guard Riders to stand and honor their hero and it will be our honor to do so. Mr. Hamilton served twenty years in the US Army with three tours of duty in Vietnam. After military retirement he owned and worked in the restaurant business for 23 years.\n\n\nPRIMARY STAGING DETAILS: 08-29-19 \nStaging Time: 1:45 pm \nGeorgia National Cemetery\n1080 Scott Hudgens Dr.\nCanton\, Georgia 30114\n\n\nRide Captain: \nTom “Knobby” Walsh\n770-605-6903\npatriotguardrider.tom@gmail.com\n\n\nSpecial Instructions: \nMeet at the MIA/POW flag pole for a briefing and shelter assignment. We will then depart for the shelter for the 2:30 PM Service with full military honors.\n\n\nFlags & Water:\n\nFlags will be provided\nLarge Bike Flags will NOT be needed.\nWater will be provided.\n\n\n\nSubmitted By: Clete Simpson \nPosition: Georgia Ride Captain \n\nNote: You do not have to own/ride a motorcycle or be a veteran to join\, and membership is Free. The only requirement is RESPECT! To subscribe to receive mission notices\, log into the National Site and click on the Members tab at the top. Select the Subscribe to PGR Missions option.\n Print This Page
URL:https://www.patriotguard.org/mission/james-henry-hamilton/
CATEGORIES:Honor Mission
END:VEVENT
END:VCALENDAR