BEGIN:VCALENDAR
VERSION:2.0
PRODID:-//Patriot Guard Riders - ECPv5.3.2.1//NONSGML v1.0//EN
CALSCALE:GREGORIAN
METHOD:PUBLISH
X-WR-CALNAME:Patriot Guard Riders
X-ORIGINAL-URL:https://www.patriotguard.org
X-WR-CALDESC:Events for Patriot Guard Riders
BEGIN:VTIMEZONE
TZID:America/New_York
BEGIN:DAYLIGHT
TZOFFSETFROM:-0500
TZOFFSETTO:-0400
TZNAME:EDT
DTSTART:20190310T070000
END:DAYLIGHT
BEGIN:STANDARD
TZOFFSETFROM:-0400
TZOFFSETTO:-0500
TZNAME:EST
DTSTART:20191103T060000
END:STANDARD
END:VTIMEZONE
BEGIN:VEVENT
DTSTART;VALUE=DATE:20190921
DTEND;VALUE=DATE:20190923
DTSTAMP:20210401T080419
CREATED:20190920T155504Z
LAST-MODIFIED:20190920T160145Z
UID:175700-1569024000-1569196799@www.patriotguard.org
SUMMARY:James Harvey Pasley\, Jr.
DESCRIPTION:Honor Mission\nJames Harvey Pasley\, Jr.\, Veteran\nUSN – WWII\nAtlanta\, Georgia – 09-21-19\n\n\n\nABOUT THE MISSION: \nWW2 US Navy Veteran James Harvey Pasley\, Jr served his Country during WW2 in the Pacific Theater of Operations. After his Naval service\, Mr. Pasley was a sheet metal worker\, being awarded recognition as the longest living union representative in the USA by Local 85.\nMr. Pasley was presented 65 year Mason apron and was very active with the Yaarab Shrine Temple of Atlanta.Mr. James Harvey Pasley stood for us and now it’s time for us to Stand for him.\n\n\nPRIMARY STAGING DETAILS: 09-21-19 \nStaging Time: 4:15 pm  \nHM Patterson & Son Funeral Home – Spring Hill\n1020 Spring Street NW\nAtlanta\, Georgia 30309\n\n\nRide Captain: \nSid ‘Squirrel’ Kelly\nsidkelly423@gmail.com\n404-273-7127\n\n\nSpecial Instructions: \nWe will stand a flag line of honor during visitation from 5:00pm until 7:00pm and then we will quietly disperse.\n\n\nFlags & Water:\nFlags will be provided\nLarge Bike Flags will NOT be needed.\nWater will be provided.\n\nSTAGING #2 DETAILS: 09-22-19 \nStaging Time: 1:15 pm  \nHM Patterson & Son Funeral Home – Spring Hill\n1020 Spring Street NW\nAtlanta\, Georgia 30309\n\n\nRide Captain: \nSid ‘Squirrel’ Kelly\nsidkelly423@gmail.com\n404-273-7127\n\n\nSpecial Instructions: \nWe will Stand a flag line of honor from 2:00 pm until the Service starts at 3:00 pm.\nPatriot Guard participation during the Service is NOT known as of this time—There will be Masonic Honors and additional Shrine Honors.\nMr. Pasley will later be transported to Salem/ Roanoke Va. To be interred at Sherwood National Cemetery\n\n\nFlags & Water:\nFlags will be provided\nLarge Bike Flags will NOT be needed.\nWater will be provided.\n\nSubmitted By: Sidney Kelly \nPosition: Georgia Ride Captain \n\nNote: You do not have to own/ride a motorcycle or be a veteran to join\, and membership is Free. The only requirement is RESPECT! To subscribe to receive mission notices\, log into the National Site and click on the Members tab at the top. Select the Subscribe to PGR Missions option.\n Print This Page
URL:https://www.patriotguard.org/mission/james-harvey-pasley-jr/
CATEGORIES:Honor Mission
END:VEVENT
END:VCALENDAR