BEGIN:VCALENDAR
VERSION:2.0
PRODID:-//Patriot Guard Riders - ECPv5.3.2.1//NONSGML v1.0//EN
CALSCALE:GREGORIAN
METHOD:PUBLISH
X-WR-CALNAME:Patriot Guard Riders
X-ORIGINAL-URL:https://www.patriotguard.org
X-WR-CALDESC:Events for Patriot Guard Riders
BEGIN:VTIMEZONE
TZID:America/New_York
BEGIN:DAYLIGHT
TZOFFSETFROM:-0500
TZOFFSETTO:-0400
TZNAME:EDT
DTSTART:20190310T070000
END:DAYLIGHT
BEGIN:STANDARD
TZOFFSETFROM:-0400
TZOFFSETTO:-0500
TZNAME:EST
DTSTART:20191103T060000
END:STANDARD
END:VTIMEZONE
BEGIN:VEVENT
DTSTART;VALUE=DATE:20190924
DTEND;VALUE=DATE:20190925
DTSTAMP:20210401T130841
CREATED:20190922T204137Z
LAST-MODIFIED:20190922T204137Z
UID:175959-1569283200-1569369599@www.patriotguard.org
SUMMARY:James Harvey Pasley Jr.
DESCRIPTION:Honor Mission\nJames Harvey Pasley Jr.\, Veteran\nUSN – WWII\nSalem\, Virginia – 09-24-19\n\n\n\nABOUT THE MISSION: \nMr. Pasley was a member of the Greatest Generation\, serving in the Pacific theater during WWII. After his naval service\, James was a sheet metal worker and was recognized as the longest living union representative in the US. Mr. Pasley was also presented his 65 year Mason’s apron with the Yaarab shrine temple in ATL. GA.\n\n\nPRIMARY STAGING DETAILS: 09-24-19 \nStaging Time: 1:30 PM\n \nJohn M. Oakey and Sons Funeral Home\n305 Roanoke Blvd.\nSalem\, Virginia 24153\n\n\nRide Captain: \nBobby Lipes\nbobbylipes3@gmail.com\n\n\nSpecial Instructions: \nWe will stage at the funeral home for a short escort to graveside.\nUpon arrival at the cemetery we will establish a flag line for last rites.\nKSU for escort is 2 pm\, approx.\nIf you plan to fly a bike mounted flag please ensure that it is secured for road speed.\n\n\nFlags & Water:\nFlags will not be provided\nIf you have large bike flags\, please bring them.\nWater WILL NOT be provided\, please bring your own.\n\n\n\nSubmitted By: James Wampler \nPosition: Virginia Assistant State Captain \n\nNote: You do not have to own/ride a motorcycle or be a veteran to join\, and membership is Free. The only requirement is RESPECT! To subscribe to receive mission notices\, log into the National Site and click on the Members tab at the top. Select the Subscribe to PGR Missions option.\n Print This Page
URL:https://www.patriotguard.org/mission/james-harvey-pasley-jr-2/
CATEGORIES:Honor Mission
END:VEVENT
END:VCALENDAR