BEGIN:VCALENDAR
VERSION:2.0
PRODID:-//Patriot Guard Riders - ECPv5.3.2.1//NONSGML v1.0//EN
CALSCALE:GREGORIAN
METHOD:PUBLISH
X-WR-CALNAME:Patriot Guard Riders
X-ORIGINAL-URL:https://www.patriotguard.org
X-WR-CALDESC:Events for Patriot Guard Riders
BEGIN:VTIMEZONE
TZID:America/New_York
BEGIN:DAYLIGHT
TZOFFSETFROM:-0500
TZOFFSETTO:-0400
TZNAME:EDT
DTSTART:20190310T070000
END:DAYLIGHT
BEGIN:STANDARD
TZOFFSETFROM:-0400
TZOFFSETTO:-0500
TZNAME:EST
DTSTART:20191103T060000
END:STANDARD
END:VTIMEZONE
BEGIN:VEVENT
DTSTART;VALUE=DATE:20190925
DTEND;VALUE=DATE:20190926
DTSTAMP:20210401T115656
CREATED:20190925T121718Z
LAST-MODIFIED:20190925T122134Z
UID:176486-1569369600-1569455999@www.patriotguard.org
SUMMARY:James Harold Shelton
DESCRIPTION:Honor Mission\nJames Harold Shelton\, Active Duty\nUSN\nChesapeake\, Virginia – 09-25-19\n\n\n\nABOUT THE MISSION: \nThe Patriot Guard has been invited by the family of ETC James H. Shelton\, USN\, to stand in silent honor of his service to our country during his memorial service at Deep Creek Baptist Church.  ETC Shelton was a 20 year\, nuclear qualified Electronics Technician\, stationed aboard USS George H. W. Bush (CVN 77).\n\n\nPRIMARY STAGING DETAILS: 09-25-19 \nStaging: 11:30 AM\n \nDeep Creek Baptist\n250 Mill Creek Pkwy\nChesapeake\, Virginia 23323\n\n\nRide Captain: \nTom “Lonegrae” Landreth\nlonegrae@cox.net\n(757) 620-5442\n\n\nSpecial Instructions: \nMission Brief: 11:45 AM\nFamily arrives: TBD\nService: 1:00 PM\, This is a mission for a Gold Star Family from a previous loss.  Flag-line mission only.  Anticipate this mission to last 3 hours.  All Ride Captains in Training (RCIT) are encouraged to participate.\n\n\nFlags & Water:\nFlags will be provided\nLarge Bike Flags will NOT be needed.\nWater WILL NOT be provided\, please bring your own.\n\nSubmitted By: Becca Landick \nPosition: Virginia State Captain \n\nNote: You do not have to own/ride a motorcycle or be a veteran to join\, and membership is Free. The only requirement is RESPECT! To subscribe to receive mission notices\, log into the National Site and click on the Members tab at the top. Select the Subscribe to PGR Missions option.\n Print This Page
URL:https://www.patriotguard.org/mission/james-harold-shelton/
CATEGORIES:Honor Mission
END:VEVENT
END:VCALENDAR