BEGIN:VCALENDAR
VERSION:2.0
PRODID:-//Patriot Guard Riders - ECPv5.6.0//NONSGML v1.0//EN
CALSCALE:GREGORIAN
METHOD:PUBLISH
X-WR-CALNAME:Patriot Guard Riders
X-ORIGINAL-URL:https://www.patriotguard.org
X-WR-CALDESC:Events for Patriot Guard Riders
BEGIN:VTIMEZONE
TZID:America/New_York
BEGIN:DAYLIGHT
TZOFFSETFROM:-0500
TZOFFSETTO:-0400
TZNAME:EDT
DTSTART:20160313T070000
END:DAYLIGHT
BEGIN:STANDARD
TZOFFSETFROM:-0400
TZOFFSETTO:-0500
TZNAME:EST
DTSTART:20161106T060000
END:STANDARD
END:VTIMEZONE
BEGIN:VEVENT
DTSTART;TZID=America/New_York:20160810T090000
DTEND;TZID=America/New_York:20160810T110000
DTSTAMP:20210512T023951
CREATED:20160810T130000Z
LAST-MODIFIED:20191201T143658Z
UID:409992-1470819600-1470826800@www.patriotguard.org
SUMMARY:James H. Williams\, USMC
DESCRIPTION:James H. Williams\nUS Marine Corps\n\n\n\nThe Patriot Guard Riders have been requested to stand a flag line for James H Williams. \nJames H Williams served in the U.S. Marine Corps during the Cuban Missile Crisis and the Vietnam War. \nThis will be a Veterans format. The service will be at the LDS church on 2633 S 50 W in Bountiful at 12:00 PM on Wednesday\, August 10\, 2016. We will stand a flag line at the church and then escort James H Williams to his final resting place in the Bountiful City Cemetery on 2224 S 200 W in Bountiful\, where we will stand another flag line. \nThe ride captain for this mission will be Dave Richardson and he can be reached at: 801-641-6009. \nStaging: 12:00 PM at Smith’s\, 2399 S Main St\, Bountiful.\nKSU: 12:30 PM \nWeather: Mostly sunny with a 20% chance of showers and a high of 86. Please dress accordingly and keep yourself hydrated. \nThank you\, James H Williams\, for your service. \nAnyone attending in a cage and willing to transport flags please contact Dave Richardson at: 801-641-6009.
URL:https://www.patriotguard.org/mission/james-h-williams-usmc/
CATEGORIES:Archive
END:VEVENT
END:VCALENDAR