BEGIN:VCALENDAR
VERSION:2.0
PRODID:-//Patriot Guard Riders - ECPv5.3.2.1//NONSGML v1.0//EN
CALSCALE:GREGORIAN
METHOD:PUBLISH
X-WR-CALNAME:Patriot Guard Riders
X-ORIGINAL-URL:https://www.patriotguard.org
X-WR-CALDESC:Events for Patriot Guard Riders
BEGIN:VTIMEZONE
TZID:America/New_York
BEGIN:DAYLIGHT
TZOFFSETFROM:-0500
TZOFFSETTO:-0400
TZNAME:EDT
DTSTART:20190310T070000
END:DAYLIGHT
BEGIN:STANDARD
TZOFFSETFROM:-0400
TZOFFSETTO:-0500
TZNAME:EST
DTSTART:20191103T060000
END:STANDARD
END:VTIMEZONE
BEGIN:VEVENT
DTSTART;VALUE=DATE:20190624
DTEND;VALUE=DATE:20190625
DTSTAMP:20210404T232026
CREATED:20190621T150444Z
LAST-MODIFIED:20190621T150444Z
UID:165441-1561334400-1561420799@www.patriotguard.org
SUMMARY:James H. Hutto
DESCRIPTION:Honor Mission\nJames H. Hutto\, Veteran\nUSA – Vietnam\nTallahassee\, Florida – 06-24-19\n\n\n \n\nABOUT THE MISSION: \nThe Patriot Guard Riders have been invited to stand in silent respect for Specialist 5 James H. Hutto. SPC Hutto served honorably in the United States Army in Vietnam. We will stand a flag line in silent respect prior to his funeral service and during his interment service.\n\n\nPRIMARY STAGING DETAILS: 06-24-19 \nStaging Time: 09:00 AM\n \nAbbey Funeral Home\n4037 North Monroe Street\nTallahassee\, Florida 32303\n           Map\n\n\nRide Captain: \nMike Donohoe\n850-510-1874\nhavananole@yahoo.com\n\n\nSpecial Instructions: \nBriefing:   9:10 AM\nFlag Line: 9:15 AM\n\n\nStaging # 2:\n\nRide Captain:\n          Same as Staging #1\n\nSpecial Instructions:\n         Tallahassee Memory Gardens\n         (Same location as Staging #1)\n        Map\n         Staging and flag line will be as directed by RC\n\nFlags & Water:\nFlags will be provided.\nLarge Bike Flags will NOT be needed.\nWater WILL NOT be provided\, please bring your own.\n\n\n\nSubmitted By: Don Reeder \nPosition: Florida Assistant State Captain \n\nNote: You do not have to own/ride a motorcycle or be a veteran to join\, and membership is Free. The only requirement is RESPECT! To subscribe to receive mission notices\, log into the National Site and click on the Members tab at the top. Select the Subscribe to PGR Missions option.\n Print This Page
URL:https://www.patriotguard.org/mission/james-h-hutto/
CATEGORIES:Honor Mission
END:VEVENT
END:VCALENDAR