BEGIN:VCALENDAR
VERSION:2.0
PRODID:-//Patriot Guard Riders - ECPv5.6.0//NONSGML v1.0//EN
CALSCALE:GREGORIAN
METHOD:PUBLISH
X-WR-CALNAME:Patriot Guard Riders
X-ORIGINAL-URL:https://www.patriotguard.org
X-WR-CALDESC:Events for Patriot Guard Riders
BEGIN:VTIMEZONE
TZID:America/New_York
BEGIN:DAYLIGHT
TZOFFSETFROM:-0500
TZOFFSETTO:-0400
TZNAME:EDT
DTSTART:20160313T070000
END:DAYLIGHT
BEGIN:STANDARD
TZOFFSETFROM:-0400
TZOFFSETTO:-0500
TZNAME:EST
DTSTART:20161106T060000
END:STANDARD
END:VTIMEZONE
BEGIN:VEVENT
DTSTART;TZID=America/New_York:20160615T090000
DTEND;TZID=America/New_York:20160615T110000
DTSTAMP:20210513T131929
CREATED:20160615T130000Z
LAST-MODIFIED:20191201T145104Z
UID:411286-1465981200-1465988400@www.patriotguard.org
SUMMARY:James Gillis\, USA
DESCRIPTION:James Gillis\nUS Army Vietnam Veteran\nAberdeen\, NC\n15 JUN 2016\n\n\n\nPatriots\, we have been asked to stand for one that stood for us. James Gillis is a Vietnam Veteran. \nObituary: http://preview.tinyurl.com/zwf82rt \nStaging Location:\nTurning Point Worship Center\n16433 U.S. 15-501\nAberdeen\, NC\nhttp://tinyurl.com/z4tsb27 \nStaging Time: 12:00 PM \nFlag Line: 12:15 PM \nStand down at 1:00 PM and prepare for escort. \nI am honored to act as the RCIC for this mission. \nWilliam Bear MacDonald\nRC\n336-695-6918
URL:https://www.patriotguard.org/mission/james-gillis-usa/
CATEGORIES:Archive
END:VEVENT
END:VCALENDAR