BEGIN:VCALENDAR
VERSION:2.0
PRODID:-//Patriot Guard Riders - ECPv5.6.0//NONSGML v1.0//EN
CALSCALE:GREGORIAN
METHOD:PUBLISH
X-WR-CALNAME:Patriot Guard Riders
X-ORIGINAL-URL:https://www.patriotguard.org
X-WR-CALDESC:Events for Patriot Guard Riders
BEGIN:VTIMEZONE
TZID:America/New_York
BEGIN:DAYLIGHT
TZOFFSETFROM:-0500
TZOFFSETTO:-0400
TZNAME:EDT
DTSTART:20160313T070000
END:DAYLIGHT
BEGIN:STANDARD
TZOFFSETFROM:-0400
TZOFFSETTO:-0500
TZNAME:EST
DTSTART:20161106T060000
END:STANDARD
END:VTIMEZONE
BEGIN:VEVENT
DTSTART;TZID=America/New_York:20160822T090000
DTEND;TZID=America/New_York:20160822T110000
DTSTAMP:20210512T030250
CREATED:20160822T130000Z
LAST-MODIFIED:20191201T143428Z
UID:409759-1471856400-1471863600@www.patriotguard.org
SUMMARY:James G. Cutting Sr\, 88
DESCRIPTION:CPL James G. Cutting\, Sr.\, 88\nCanal Fulton\, Ohio\nUnited States Army WWII Era Veteran\nCompany\, D\, 772nd Military Police Battalion Fort George Mead Maryland\n[ATTACH=CONFIG]5042[/ATTACH] \n\n\nVisitation/Service:\nSwigart-Easterling Funeral Home\n624 Cherry Street E\nCanal Fulton\, Ohio 44614\nVisitation:  22 August 2016@1030-1200hrs-(10:30 AM-12 PM)\nService:  22 August 2016@1200hrs-(12 PM)\nStaging:  22 August 2016@0930hrs-(9:30 AM)\nMap:  https://binged.it/2bth5yU \nInterment:  Manchester Cemetery following the Service \nDistrict  # 6 Captain Pat O’Connor is assigned this mission of Honor and Respect.  Please follow his instructions and remember your 3’x5′ American flags.  Use your own judgment on how you get safely to and from the mission. If  you need to contact Pat email him at:patoc1@aol.com \n\n\n“Rest in Peace Cpl Cutting\, Sr”\n\n[ATTACH=CONFIG]5043[/ATTACH]
URL:https://www.patriotguard.org/mission/james-g-cutting-sr-88/
CATEGORIES:Archive
END:VEVENT
END:VCALENDAR