BEGIN:VCALENDAR
VERSION:2.0
PRODID:-//Patriot Guard Riders - ECPv5.3.2.1//NONSGML v1.0//EN
CALSCALE:GREGORIAN
METHOD:PUBLISH
X-WR-CALNAME:Patriot Guard Riders
X-ORIGINAL-URL:https://www.patriotguard.org
X-WR-CALDESC:Events for Patriot Guard Riders
BEGIN:VTIMEZONE
TZID:America/New_York
BEGIN:DAYLIGHT
TZOFFSETFROM:-0500
TZOFFSETTO:-0400
TZNAME:EDT
DTSTART:20190310T070000
END:DAYLIGHT
BEGIN:STANDARD
TZOFFSETFROM:-0400
TZOFFSETTO:-0500
TZNAME:EST
DTSTART:20191103T060000
END:STANDARD
END:VTIMEZONE
BEGIN:VEVENT
DTSTART;VALUE=DATE:20190903
DTEND;VALUE=DATE:20190904
DTSTAMP:20210401T140308
CREATED:20190902T142715Z
LAST-MODIFIED:20190902T142715Z
UID:172444-1567468800-1567555199@www.patriotguard.org
SUMMARY:James Francis Clark\, Sr.
DESCRIPTION:Honor Mission\nJames Francis Clark\, Sr.\, Veteran\nUSN – Korea\nRowlett\, Texas – 09-03-19\n\n\n \n\nABOUT THE MISSION: \nJim Clark served his country in the Pennsylvania National Guard enlisting at age 15\, at age 17 he enlisted in the U.S. Navy\, serving prior to and during the Korean Conflict. He continued to serve as an Operating Engineer and finally as the Boiler Plant Supervisor for the West Los Angeles and Sepulveda Veterans Hospitals\, retiring in 1984.\n\n\nPRIMARY STAGING DETAILS: 09-03-19 \nStaging Time: 11:00 am\n \nSacred Heart Catholic Church\n3905 Hickox Road\nRowlett\, Texas 75089\n\n\nRide Captain: \nMark Gravit\nputt4dou@msn.com\n(720) 422-9221\n\n\nSpecial Instructions: \nBriefing Time: 11:15am\nIn Position/KSU Time: 11:20am\nStarting: 11:30am\nAfter the mission and safety briefing\, Riders will prepare to accompany Mr. Clark and his family and friends to the cemetery. Since Part 1 is a procession only\, support will not be requested\, and Riders should bring their own water. Procession: Escort Provided\n\nFlags & Water:\nFlags will not be provided\nIf you have large bike flags\, please bring them.\nWater WILL NOT be provided\, please bring your own.\n\nSTAGING #2 DETAILS: 09-03-19 \nStaging Time: 12:30 pm\n \nDFW National Cemetery\n2000 Mountain Creek Pkwy\nDallas\, Texas 75211\n\n\nRide Captain: \nMark Gravit\nputt4dou@msn.com\n(720) 422-9221\n\n\nSpecial Instructions: \nBriefing Time: 12:45pm\nIn Position/KSU Time: 1:00pm\nStarting Time: 1:15pm\nAfter the mission briefing\, honor bikes\, if needed\, will move to the appropriate staging lane to await the arrival of the procession. All other Riders will move to the shelter to set the flags and await the arrival of Mr. Clark and his family and friends. We’ll then stand tall and silent in honor of Mr. Clark’s Service to our Country. After the Service\, Riders will return the flags to storage\, be debriefed and dismissed.\n\nFlags & Water:\nFlags will be provided\nIf you have large bike flags\, please bring them.\nWater will be provided.\n\n\n\n\nSubmitted By: Dan Mathys \nPosition: Texas Ride Captain \n\nNote: You do not have to own/ride a motorcycle or be a veteran to join\, and membership is Free. The only requirement is RESPECT! To subscribe to receive mission notices\, log into the National Site and click on the Members tab at the top. Select the Subscribe to PGR Missions option.\n Print This Page
URL:https://www.patriotguard.org/mission/james-francis-clark-sr/
CATEGORIES:Honor Mission
END:VEVENT
END:VCALENDAR