BEGIN:VCALENDAR
VERSION:2.0
PRODID:-//Patriot Guard Riders - ECPv5.6.0//NONSGML v1.0//EN
CALSCALE:GREGORIAN
METHOD:PUBLISH
X-WR-CALNAME:Patriot Guard Riders
X-ORIGINAL-URL:https://www.patriotguard.org
X-WR-CALDESC:Events for Patriot Guard Riders
BEGIN:VTIMEZONE
TZID:America/New_York
BEGIN:DAYLIGHT
TZOFFSETFROM:-0500
TZOFFSETTO:-0400
TZNAME:EDT
DTSTART:20160313T070000
END:DAYLIGHT
BEGIN:STANDARD
TZOFFSETFROM:-0400
TZOFFSETTO:-0500
TZNAME:EST
DTSTART:20161106T060000
END:STANDARD
END:VTIMEZONE
BEGIN:VEVENT
DTSTART;TZID=America/New_York:20160716T090000
DTEND;TZID=America/New_York:20160716T110000
DTSTAMP:20210512T221321
CREATED:20160716T130000Z
LAST-MODIFIED:20191201T144323Z
UID:410585-1468659600-1468666800@www.patriotguard.org
SUMMARY:James F DeLeone\, Sr\, USA\, USNR\, USAFR Veteran
DESCRIPTION:James F DeLeone\, Sr.\nMultiple Service Veteran & LEO\nPen Argyl\, PA\n16 JUL 2016\n\n\n\nThe family of Veteran James F. DeLeone\, Sr. has requested the Patriot Guard Riders stand to honor his service to our nation at his visitation Saturday\, July 16.  Jim served 2 years in the Army right out of high school\, and joined the Navy Reserves following 9/11.  He finished his military career with the Air Force Reserves in 2012. \nJim has been a Police Officer for the Borough of Hellertown for the last 19 years.  He was a member of American Legion Post 397 in Hellertown.  We will be joining the American Legion Riders to honor Jim. \nFollowing the visitation\, we will escort Jim to Heintzelman Funeral Home in Hellertown for cremation.  James DeLeone Sr. is a patriot who served our country with honor and now it’s our turn to stand and honor him. \nWe will join the Hellertown Am Legion Riders and proceed to Pen Argyl as a group.\n\nSTAGING:  0930 HRS\, KSU 1000 HRS \nShoppes at Hellertown\n15 South Main Street\nHellertown\, PA\nMap:  https://goo.gl/maps/gc4MNgBoPiG2 \nVISITATION:  1100 HRS – 1300 HRS \nGuerro & Ruggiero Funeral Home\n126 E Pennsylvania Avenue\nPen Argyl\, PA 18072 \nESCORT:  Following visitation \nHeintzelman Funeral Home\n326 Main Street\nHellerton\, PA  18055\nMap: https://goo.gl/maps/Cj4q3Wji7wr \nRCIC: \nJeff Beil\njb.cvan65@gmail.com\n610-428-9982
URL:https://www.patriotguard.org/mission/james-f-deleone-sr-usa-usnr-usafr-veteran/
CATEGORIES:Archive
END:VEVENT
END:VCALENDAR