BEGIN:VCALENDAR
VERSION:2.0
PRODID:-//Patriot Guard Riders - ECPv5.3.2.1//NONSGML v1.0//EN
CALSCALE:GREGORIAN
METHOD:PUBLISH
X-WR-CALNAME:Patriot Guard Riders
X-ORIGINAL-URL:https://www.patriotguard.org
X-WR-CALDESC:Events for Patriot Guard Riders
BEGIN:VTIMEZONE
TZID:America/New_York
BEGIN:DAYLIGHT
TZOFFSETFROM:-0500
TZOFFSETTO:-0400
TZNAME:EDT
DTSTART:20210314T070000
END:DAYLIGHT
BEGIN:STANDARD
TZOFFSETFROM:-0400
TZOFFSETTO:-0500
TZNAME:EST
DTSTART:20211107T060000
END:STANDARD
END:VTIMEZONE
BEGIN:VEVENT
DTSTART;VALUE=DATE:20210401
DTEND;VALUE=DATE:20210402
DTSTAMP:20210402T045252
CREATED:20210330T120845Z
LAST-MODIFIED:20210330T120845Z
UID:573269-1617235200-1617321599@www.patriotguard.org
SUMMARY:James Erbit Greer
DESCRIPTION:Honor Mission\nJames Erbit Greer\, Veteran\nUSN\nBrandenburg\, Kentucky – 04-01-21\n  \n\n  \nABOUT THE MISSION:\n\n\nHe served our country with courage and honor. It is now our honor to stand for him.\n\n\nPRIMARY STAGING DETAILS: 04-01-21\nStaging Time: 10:00 am\n\nBruington-Jenkins-Sturgeon Funeral Home\n198 Lawrence Street\nBrandenburg\, Kentucky 40108\n\n\nRide Captain:\n\nDon Gilmore dgilmore@bbtel.com\n\n\nSpecial Instructions:\n\nJames Erbit Greer10:00 Stage flags\n11:45 Render final salute \nEscort to: \nCap Anderson Cemetery\nHigh Street\nBrandenburg\, KY 40108 \nThe assigned Ride Captian will clarify specific Funeral Home and Cemetery requirements to comply with COVID-19 rules. \n\n\nFlags & Water:\n\nFlags will be provided\nIf you have large bike flags\, please bring them.\nWater WILL NOT be provided\, please bring your own.\n\n\n\n\n\n\n\nSubmitted By: James Johnson\nPosition: Kentucky Ride Captain\n\nNote: You do not have to own/ride a motorcycle or be a Veteran to join and membership is Free. The only requirement is RESPECT! To subscribe to receive mission notices\, log into the National Site and click on the Members tab at the top. Select the Subscribe to PGR Missions option. \n  \n—\nYou received this message because you are subscribed to the Google Groups “mods” group.\nTo unsubscribe from this group and stop receiving emails from it\, send an email to mods+unsubscribe@patriotguard.org. Print This Page
URL:https://www.patriotguard.org/mission/james-erbit-greer/
CATEGORIES:Honor Mission
END:VEVENT
END:VCALENDAR