BEGIN:VCALENDAR
VERSION:2.0
PRODID:-//Patriot Guard Riders - ECPv5.3.2.1//NONSGML v1.0//EN
CALSCALE:GREGORIAN
METHOD:PUBLISH
X-WR-CALNAME:Patriot Guard Riders
X-ORIGINAL-URL:https://www.patriotguard.org
X-WR-CALDESC:Events for Patriot Guard Riders
BEGIN:VTIMEZONE
TZID:America/New_York
BEGIN:DAYLIGHT
TZOFFSETFROM:-0500
TZOFFSETTO:-0400
TZNAME:EDT
DTSTART:20190310T070000
END:DAYLIGHT
BEGIN:STANDARD
TZOFFSETFROM:-0400
TZOFFSETTO:-0500
TZNAME:EST
DTSTART:20191103T060000
END:STANDARD
END:VTIMEZONE
BEGIN:VEVENT
DTSTART;VALUE=DATE:20190604
DTEND;VALUE=DATE:20190605
DTSTAMP:20210405T024238
CREATED:20190602T212111Z
LAST-MODIFIED:20190602T212343Z
UID:163383-1559606400-1559692799@www.patriotguard.org
SUMMARY:James Emil Laier
DESCRIPTION:Honor Mission\nJames Emil Laier\, Veteran\nUSA – Vietnam\nSpanish Fort\, Alabama – 06-04-19\n\n\n\nABOUT THE MISSION: \nFellow Riders\, Captain Laier served in the US Army and passed away at the age of 78.  He received the Bronze Star Medal\, Air Medal w/ 4 Oak Leaf Clusters\, Army Commendation Medal\, NDSM\, Vietnam Service Medal\, Vietnam Campaign Medal w/ Device 60\, Parachutist Badge\, Ranger Tab\, Meritorious Unit Emblem\, and an Honorable discharge.  It shall be our honor to stand a silent flag line at his committal service at 10:00 a.m.\nMr. Laier stood many a hard day and night so that we might be safe and free.  Now it is our turn to stand and honor him for his service and sacrifice\, Ride safely!\n\n\nPRIMARY STAGING DETAILS: 06-04-19 \nStaging: 9:00 am  \nOld Dollar General Store parking lot\n(intersection of Hwy 31 & 225)\nSpanish Fort\, Alabama 36527\n\n\nRide Captain: \nEd ‘Juju’ Lessard\nchromedome43@hotmail.com\n(251) 978-6215\n\n\nSpecial Instructions: \nBriefing: 9:15 am\nFamily Arrival: N/A\nKSU: 9:30 am\nCommittal: 10:00 am\nFlags and Support: Committal\nStoreroom Weather: 94 degrees / Mostly sunny\, Stay Hydrated!\n\n\nFlags & Water:\nFlags will be provided\nLarge Bike Flags will NOT be needed.\nWater WILL NOT be provided\, please bring your own.\n\nSubmitted By: Lloyd Pursley \nPosition: Alabama Ride Captain \n\nNote: You do not have to own/ride a motorcycle or be a veteran to join\, and membership is Free. The only requirement is RESPECT! To subscribe to receive mission notices\, log into the National Site and click on the Members tab at the top. Select the Subscribe to PGR Missions option.\n Print This Page
URL:https://www.patriotguard.org/mission/james-emil-laier/
CATEGORIES:Honor Mission
END:VEVENT
END:VCALENDAR