BEGIN:VCALENDAR
VERSION:2.0
PRODID:-//Patriot Guard Riders - ECPv5.6.0//NONSGML v1.0//EN
CALSCALE:GREGORIAN
METHOD:PUBLISH
X-WR-CALNAME:Patriot Guard Riders
X-ORIGINAL-URL:https://www.patriotguard.org
X-WR-CALDESC:Events for Patriot Guard Riders
BEGIN:VTIMEZONE
TZID:America/New_York
BEGIN:DAYLIGHT
TZOFFSETFROM:-0500
TZOFFSETTO:-0400
TZNAME:EDT
DTSTART:20210314T070000
END:DAYLIGHT
BEGIN:STANDARD
TZOFFSETFROM:-0400
TZOFFSETTO:-0500
TZNAME:EST
DTSTART:20211107T060000
END:STANDARD
END:VTIMEZONE
BEGIN:VEVENT
DTSTART;VALUE=DATE:20210512
DTEND;VALUE=DATE:20210513
DTSTAMP:20210511T123615
CREATED:20210509T181219Z
LAST-MODIFIED:20210509T181219Z
UID:576660-1620777600-1620863999@www.patriotguard.org
SUMMARY:James Edwards Doucette
DESCRIPTION:Honor Mission\nJames Edwards Doucette\, Veteran\nUSAF – Vietnam\nPortland\, Oregon – 05-12-21\n\n\n\nABOUT THE MISSION: \nLadies and Gentlemen of the Patriot Guard Riders\, we have been invited to stand for James Edwards Doucette\, age 74. James served in the US Air Force from Aug 19\, 1964 to Aug. 16\, 1968. While serving his nation James earned the following Medals and Ribbons\, the Small Arms Marksmanship Ribbon\, the Vietnam Service Medal\, the National Defense Service Medal\, Vietnam Campaign Medal\, and the Air Force Good Conduct Medal. Please join us as we pay our respects and honor his service to our nation.\n\n\nPRIMARY STAGING DETAILS: 05-12-21 \nStaging Time: 09:30 AM\n \nWillamette National Cemetery\n11800 SE Mt Scott Blvd\nPortland\, Oregon 97086\nMap\n\n\nRide Captain: \nTim Johnson\ntimjo1950@gmail.com\n\n\nSpecial Instructions: \nBriefing: 9:45 AM\nFlagline Set: 10:15 AM\nService Begins: 10:30 AM\nMeet up top at the Rostrum by the flagpole.\n***SWWA will bring our Hero from WA and escort him all the way through to the shelter***\n\n\nFlags & Water:\nFlags will not be provided\nIf you have large bike flags\, please bring them.\nWater WILL NOT be provided\, please bring your own.\n\n\nSubmitted By: Debbie Parrack \nPosition: \n\nNote: You do not have to own/ride a motorcycle or be a veteran to join\, and membership is Free. The only requirement is RESPECT! To subscribe to receive mission notices\, log into the National Site and click on the Members tab at the top. Select the Subscribe to PGR Missions option.\n Print This Page
URL:https://www.patriotguard.org/mission/james-edwards-doucette/
CATEGORIES:Honor Mission
END:VEVENT
END:VCALENDAR