BEGIN:VCALENDAR
VERSION:2.0
PRODID:-//Patriot Guard Riders - ECPv5.3.2.1//NONSGML v1.0//EN
CALSCALE:GREGORIAN
METHOD:PUBLISH
X-WR-CALNAME:Patriot Guard Riders
X-ORIGINAL-URL:https://www.patriotguard.org
X-WR-CALDESC:Events for Patriot Guard Riders
BEGIN:VTIMEZONE
TZID:America/New_York
BEGIN:DAYLIGHT
TZOFFSETFROM:-0500
TZOFFSETTO:-0400
TZNAME:EDT
DTSTART:20210314T070000
END:DAYLIGHT
BEGIN:STANDARD
TZOFFSETFROM:-0400
TZOFFSETTO:-0500
TZNAME:EST
DTSTART:20211107T060000
END:STANDARD
END:VTIMEZONE
BEGIN:VEVENT
DTSTART;VALUE=DATE:20210401
DTEND;VALUE=DATE:20210402
DTSTAMP:20210402T234955
CREATED:20210330T221825Z
LAST-MODIFIED:20210330T221825Z
UID:573389-1617235200-1617321599@www.patriotguard.org
SUMMARY:James Edward Taylor
DESCRIPTION:Honor Mission\nJames Edward Taylor\, Veteran\nUSA – Vietnam\nLacey’s Spring\, Alabama – 04-01-21\n\n\n\nABOUT THE MISSION: \nThe family of James Edward Taylor has asked the Patriot Guard to honor their loved one by standing a silent flag line at his Funeral and Graveside Service with escort to his final resting place. We will be Honored to do so. Mr. Taylor stood for us…..now is the time to stand for him. Mr. Taylor (74) was in the US Army in Vietnam and served with distinction\, receiving 3 Bronze Stars and the Vietnam Cross of Gallantry.\n\n\nPRIMARY STAGING DETAILS: 04-01-21 \nStaging Time: 11:00 AM\n \nBrindlee Mountain Chapel Funeral Home\n3552 Hwy 231\nLacey’s Spring\, Alabama 35754\n\n\nRide Captain: \nVickie Meader\nduanevickie@mindspring.com\n256-508-9605\n\nFlag Captain: Paul Neal moosen23@hotmail.com256-508-9172\n\n\nSpecial Instructions: \nPlace flags. Set Flag line.\nFamily arrives at 11:30 am.\nLine up for escort.\nEscort to Union Grove Cemetery for Graveside Service.\n\n\nFlags & Water:\nFlags will be provided\nIf you have large bike flags\, please bring them.\nWater WILL NOT be provided\, please bring your own.\n\n\nSubmitted By: John Cooper \nPosition: Alabama Ride Captain \n\nNote: You do not have to own/ride a motorcycle or be a veteran to join\, and membership is Free. The only requirement is RESPECT! To subscribe to receive mission notices\, log into the National Site and click on the Members tab at the top. Select the Subscribe to PGR Missions option.\n Print This Page
URL:https://www.patriotguard.org/mission/james-edward-taylor/
CATEGORIES:Honor Mission
END:VEVENT
END:VCALENDAR