BEGIN:VCALENDAR
VERSION:2.0
PRODID:-//Patriot Guard Riders - ECPv5.3.2.1//NONSGML v1.0//EN
CALSCALE:GREGORIAN
METHOD:PUBLISH
X-WR-CALNAME:Patriot Guard Riders
X-ORIGINAL-URL:https://www.patriotguard.org
X-WR-CALDESC:Events for Patriot Guard Riders
BEGIN:VTIMEZONE
TZID:America/New_York
BEGIN:DAYLIGHT
TZOFFSETFROM:-0500
TZOFFSETTO:-0400
TZNAME:EDT
DTSTART:20190310T070000
END:DAYLIGHT
BEGIN:STANDARD
TZOFFSETFROM:-0400
TZOFFSETTO:-0500
TZNAME:EST
DTSTART:20191103T060000
END:STANDARD
END:VTIMEZONE
BEGIN:VEVENT
DTSTART;VALUE=DATE:20190622
DTEND;VALUE=DATE:20190623
DTSTAMP:20210405T011558
CREATED:20190620T131016Z
LAST-MODIFIED:20190620T131016Z
UID:165319-1561161600-1561247999@www.patriotguard.org
SUMMARY:James Edward Hill
DESCRIPTION:Honor Mission\nJames Edward Hill\, Retired\nUSA – Vietnam\nStokes\, North Carolina – 06-22-19\n\n\n\nABOUT THE MISSION: \nMSGT James Edward Hill answered the call to stand against our country’s enemies\, serving proudly during the Vietnam War. As he stood and served honorably for our freedom\, we will now stand with honor and show respect for his Service.\n\n\nPRIMARY STAGING DETAILS: 06-22-19 \nStaging Time: 11:00 AM\n \nSt. John Missionary Baptist Church\n2921 Briery Swamp Rd.\nStokes\, North Carolina 27884\n\n\nRide Captain: \nLevi “Bowwezy” Clemons\n\n\nSpecial Instructions: \nWe will Set and Stand the Flag Line during the arrival or Family and Friends\n\n\nFlags & Water:\nFlags will be provided\nIf you have large bike flags\, please bring them.\nWater WILL NOT be provided\, please bring your own.\n\n\n\nSubmitted By: Roy Hankinson \nPosition: North Carolina Assistant State Captain \n\nNote: You do not have to own/ride a motorcycle or be a veteran to join\, and membership is Free. The only requirement is RESPECT! To subscribe to receive mission notices\, log into the National Site and click on the Members tab at the top. Select the Subscribe to PGR Missions option.\n Print This Page
URL:https://www.patriotguard.org/mission/james-edward-hill/
CATEGORIES:Honor Mission
END:VEVENT
END:VCALENDAR