BEGIN:VCALENDAR
VERSION:2.0
PRODID:-//Patriot Guard Riders - ECPv5.3.2.1//NONSGML v1.0//EN
CALSCALE:GREGORIAN
METHOD:PUBLISH
X-WR-CALNAME:Patriot Guard Riders
X-ORIGINAL-URL:https://www.patriotguard.org
X-WR-CALDESC:Events for Patriot Guard Riders
BEGIN:VTIMEZONE
TZID:America/New_York
BEGIN:DAYLIGHT
TZOFFSETFROM:-0500
TZOFFSETTO:-0400
TZNAME:EDT
DTSTART:20190310T070000
END:DAYLIGHT
BEGIN:STANDARD
TZOFFSETFROM:-0400
TZOFFSETTO:-0500
TZNAME:EST
DTSTART:20191103T060000
END:STANDARD
END:VTIMEZONE
BEGIN:VEVENT
DTSTART;VALUE=DATE:20190923
DTEND;VALUE=DATE:20190924
DTSTAMP:20210401T120054
CREATED:20190921T174800Z
LAST-MODIFIED:20190921T174800Z
UID:175818-1569196800-1569283199@www.patriotguard.org
SUMMARY:James Edward Franks
DESCRIPTION:Honor Mission\nJames Edward Franks \, Veteran\nUSN –\nMobile\, Alabama – 09-23-19\n\n\n\n\nABOUT THE MISSION: \nFellow Riders\,It is with heavy heart that I must inform you that America has lost another True American hero. The family of James Edward Franks\, who passed away at the age of 66\, has requested the Patriot Guard to stand in honor of their loved one. Mr. Franks served in the US Navy for 2 years and 11 months. He received the National Defense Service Medal\, and was Honorably Discharged. Other awards and commendations are unknown.Mr. Franks stood for us many a hard day and night so that we might be safe and free— Now it is our turn to stand for him.\n\n\nPRIMARY STAGING DETAILS: 09-23-19 \nStaging Time: 8:00 am \nTurner Supply Co. Parking Lot\n(Intersection of N. Water St. and Congress St.)\nMobile\, Alabama 36602\n\n\nRide Captain: \nGreg Selman\ngbselman@hotmail.com\n(251) 490-9791\n\n\nSpecial Instructions: \nThis is an escort mission from Lovett’s FH\, 404 Dr. Martin Luther King\, Jr. Ave to ASVMC.\nBriefing: 8:15 a.m.KSU: 8:30 a.m.\nDepart Funeral Home: 9:00 a.m.Interment: 10:00 a.m. – ASVMC\, Spanish Fort. AL\n\nFlags & Water:\nFlags will be provided\nIf you have large bike flags\, please bring them.\nWater WILL NOT be provided\, please bring your own.\n\n\n\nSubmitted By: Lloyd Pursley \nPosition: Alabama Ride Captain \n\nNote: You do not have to own/ride a motorcycle or be a veteran to join\, and membership is Free. The only requirement is RESPECT! To subscribe to receive mission notices\, log into the National Site and click on the Members tab at the top. Select the Subscribe to PGR Missions option.\n Print This Page
URL:https://www.patriotguard.org/mission/james-edward-franks/
CATEGORIES:Honor Mission
END:VEVENT
END:VCALENDAR