BEGIN:VCALENDAR
VERSION:2.0
PRODID:-//Patriot Guard Riders - ECPv5.3.2.1//NONSGML v1.0//EN
CALSCALE:GREGORIAN
METHOD:PUBLISH
X-WR-CALNAME:Patriot Guard Riders
X-ORIGINAL-URL:https://www.patriotguard.org
X-WR-CALDESC:Events for Patriot Guard Riders
BEGIN:VTIMEZONE
TZID:America/New_York
BEGIN:DAYLIGHT
TZOFFSETFROM:-0500
TZOFFSETTO:-0400
TZNAME:EDT
DTSTART:20190310T070000
END:DAYLIGHT
BEGIN:STANDARD
TZOFFSETFROM:-0400
TZOFFSETTO:-0500
TZNAME:EST
DTSTART:20191103T060000
END:STANDARD
END:VTIMEZONE
BEGIN:VEVENT
DTSTART;VALUE=DATE:20190831
DTEND;VALUE=DATE:20190901
DTSTAMP:20210402T193505
CREATED:20190829T213244Z
LAST-MODIFIED:20190829T213540Z
UID:172307-1567209600-1567295999@www.patriotguard.org
SUMMARY:James E. Wright\, Sr.
DESCRIPTION:Honor Mission\nJames E. Wright\, Sr. \, Veteran\nUSN\, WWII\nVienna\, Georgia – 08-31-19\n\n\n\n\nABOUT THE MISSION: \nThe Patriot Guard Riders have been invited by the family of US Navy WWII Veteran James E. Wright\, Sr.\, 95 to stand in his honor and escort him to his final resting place. James was a veteran of the United States Navy and served during World War II. He was retired from Georgia Pacific and was an active member of Vienna Church of God. We will stand an honorable flag line during visitation at the church and then stand down during the funeral service which will immediately follow the visitation and prepare to escort this Hero and his family to Sunnyside Cemetery\, East 8th Avenue Cordele\, GA 31015.\n\n\nPRIMARY STAGING DETAILS: 08-31-19 \nStaging Time: 12:15  \nVienna Church Of God\n420 North 6th Street\nVienna\, Georgia 31092\n\n\nRide Captain: \nBrendan “CryBaby” McNair\nbrendan.mcnair@ymail.com\n\n\nSpecial Instructions: \nVisitation 12:30 to 2:00 followed by Funeral Service @ 2:00\n\n\nFlags & Water:\nFlags will be provided\nIf you have large bike flags\, please bring them.\nWater WILL NOT be provided\, please bring your own.\n\n\n\nSubmitted By: Don Wilson \nPosition: Georgia State Captain \n\nNote: You do not have to own/ride a motorcycle or be a veteran to join\, and membership is Free. The only requirement is RESPECT! To subscribe to receive mission notices\, log into the National Site and click on the Members tab at the top. Select the Subscribe to PGR Missions option.\n Print This Page
URL:https://www.patriotguard.org/mission/james-e-wright-sr/
CATEGORIES:Honor Mission
END:VEVENT
END:VCALENDAR