BEGIN:VCALENDAR
VERSION:2.0
PRODID:-//Patriot Guard Riders - ECPv5.3.2.1//NONSGML v1.0//EN
CALSCALE:GREGORIAN
METHOD:PUBLISH
X-WR-CALNAME:Patriot Guard Riders
X-ORIGINAL-URL:https://www.patriotguard.org
X-WR-CALDESC:Events for Patriot Guard Riders
BEGIN:VTIMEZONE
TZID:America/New_York
BEGIN:DAYLIGHT
TZOFFSETFROM:-0500
TZOFFSETTO:-0400
TZNAME:EDT
DTSTART:20190310T070000
END:DAYLIGHT
BEGIN:STANDARD
TZOFFSETFROM:-0400
TZOFFSETTO:-0500
TZNAME:EST
DTSTART:20191103T060000
END:STANDARD
END:VTIMEZONE
BEGIN:VEVENT
DTSTART;VALUE=DATE:20190729
DTEND;VALUE=DATE:20190730
DTSTAMP:20210402T132147
CREATED:20190728T013530Z
LAST-MODIFIED:20190728T013530Z
UID:168764-1564358400-1564444799@www.patriotguard.org
SUMMARY:James E Vickery
DESCRIPTION:Honor Mission\nJames E Vickery\, Veteran\nUSN –\nMaple Valley\, Washington – 07-29-19\n\n\n\nABOUT THE MISSION: \nLadies and Gentlemen of the Patriot Guard Riders\, we have once again been requested by family members to stand a flag line to honor Ensign James Elmer Vickery\, U.S. Navy\, at his final Military Honors. Ensign Vickery served our country honorably from 14 August 1961 until 30 November 1965\, when he was medically discharged. Ensign Vickery served aboard the USS McMorris (DE 1036) from 17 November 1961 until 11 August 1963 when he was assigned to Short Service Commission School. At the completion of SSC training he returned to the USS McMorris where he served until he was injured on 27 March 1964. The family was not able to provide any awards\, medals\, citations or commendations that Ensign Vickery may have received. Let’s stand in honor of one of our Nation’s heroes that sacrificed so much.\n\n\nPRIMARY STAGING DETAILS: 07-29-19 \nStaging Time: 11:30 AM\n \nMcDonald’s\n23225 Maple Valley Black Diamond Hwy\nMaple Valley\, Washington 98038\n\n\nRide Captain: \nLyall “Joker” Smith\nlyalls@aol.com\n360-791-4639\n\nSV: Veronica Port\, veronicaport@gmail.com\n\n\nSpecial Instructions: \n11:30 – RC’s & SV Arrive\n11:45 – Riders arrive – filled\, drained & sign-in\n12:30 – Mission / Safety Brief\n12:45 – Proceed to service location\n1:00 – Set up Flag line\n1:30 – Service Begins\n1:45 – or end of service\, quietly fade away to SV and debrief.\nWeather is expected to be in the upper 70’s and clear\, please stay hydrated!\n\n\nFlags & Water:\nFlags will be provided\nLarge Bike Flags will NOT be needed.\nWater will be provided.\n\n\n\nSubmitted By: Sabrina Brown \nPosition: Washington State Captain \n\nNote: You do not have to own/ride a motorcycle or be a veteran to join\, and membership is Free. The only requirement is RESPECT! To subscribe to receive mission notices\, log into the National Site and click on the Members tab at the top. Select the Subscribe to PGR Missions option.\n Print This Page
URL:https://www.patriotguard.org/mission/james-e-vickery/
CATEGORIES:Honor Mission
END:VEVENT
END:VCALENDAR