BEGIN:VCALENDAR
VERSION:2.0
PRODID:-//Patriot Guard Riders - ECPv5.6.0//NONSGML v1.0//EN
CALSCALE:GREGORIAN
METHOD:PUBLISH
X-WR-CALNAME:Patriot Guard Riders
X-ORIGINAL-URL:https://www.patriotguard.org
X-WR-CALDESC:Events for Patriot Guard Riders
BEGIN:VTIMEZONE
TZID:America/New_York
BEGIN:DAYLIGHT
TZOFFSETFROM:-0500
TZOFFSETTO:-0400
TZNAME:EDT
DTSTART:20160313T070000
END:DAYLIGHT
BEGIN:STANDARD
TZOFFSETFROM:-0400
TZOFFSETTO:-0500
TZNAME:EST
DTSTART:20161106T060000
END:STANDARD
END:VTIMEZONE
BEGIN:VEVENT
DTSTART;TZID=America/New_York:20160723T090000
DTEND;TZID=America/New_York:20160723T110000
DTSTAMP:20210512T235655
CREATED:20160723T130000Z
LAST-MODIFIED:20191201T144125Z
UID:410405-1469264400-1469271600@www.patriotguard.org
SUMMARY:James E. Jones\, 58\,  USA
DESCRIPTION:James  E. Jones\n\n\n\n \n\n\nU.S.  Army Veteran\nMilwaukee\,  WI\nSaturday  July 23\, 2016\n\n\n\nJames E. Jones left us this week at  the too young age of 58.  James  served a total of 18 years in the Army and the Army Reserve. \nJames leaves behind his wife and two  young sons and the family has asked that we join them as they take James to the  rest he has so long deserved. \nVisitation \nSaturday\, July 23\,  2016\n10:00 a.m. – 11:00 am \nNew Testament  Church\n10201 West Bradley  Road\nMilwaukee\, WI   \nStaging\n9:00 am \nService follows\n11:00 am   \nInterment at Graceland Cemetery to  follow. \nNote:   We are expecting  very high heat indexes this weekend and have many missions that will have us in  the sun.  Please remain hydrated and take as many breaks as you need or  stand down and get to a cool place. \nRide Captain is Chris Pearce\,   harleyfan1343@yahoo.com
URL:https://www.patriotguard.org/mission/james-e-jones-58-usa/
CATEGORIES:Archive
END:VEVENT
END:VCALENDAR