BEGIN:VCALENDAR
VERSION:2.0
PRODID:-//Patriot Guard Riders - ECPv5.3.2.1//NONSGML v1.0//EN
CALSCALE:GREGORIAN
METHOD:PUBLISH
X-WR-CALNAME:Patriot Guard Riders
X-ORIGINAL-URL:https://www.patriotguard.org
X-WR-CALDESC:Events for Patriot Guard Riders
BEGIN:VTIMEZONE
TZID:America/New_York
BEGIN:DAYLIGHT
TZOFFSETFROM:-0500
TZOFFSETTO:-0400
TZNAME:EDT
DTSTART:20170312T070000
END:DAYLIGHT
BEGIN:STANDARD
TZOFFSETFROM:-0400
TZOFFSETTO:-0500
TZNAME:EST
DTSTART:20171105T060000
END:STANDARD
END:VTIMEZONE
BEGIN:VEVENT
DTSTART;TZID=America/New_York:20170807T113000
DTEND;TZID=America/New_York:20170807T133000
DTSTAMP:20210402T014126
CREATED:20170807T153000Z
LAST-MODIFIED:20191201T031825Z
UID:323473-1502105400-1502112600@www.patriotguard.org
SUMMARY:James E. Holton \, Retired\, USA
DESCRIPTION:James E. Holton\, Retired \nUSA \nGrayson\, Kentucky – 07 Aug 2017\n\n[HR][/HR]\nABOUT THE MISSION: \nJames E. Holton \, 86\, US Army (Ret)\, Grayson\, KY 7 August 2017 \nFUNERAL \nDAY/DATE: Monday\, 7 August 2017\nPLACE: Malone Funeral Home\, 325 Malone Lane\, Grayson\, KY 41143\nTIME: 1:00 pm\nSTAGING AREA: McDonalds\, 750 Carol Malone Blvd\, Grayson\, KY 41143\nSTAGING TIME: 11:30 am\nKSU: 11:45 am \nWe will escort Mr. Holton to his final resting place at the Kentucky Veterans Cemetery NE directly following the service. \nCharlie French will be the Ride Captain for this mission. If you have any questions\, please contact me at the number below. \n\nPRIMARY STAGING DETAILS: 07 Aug 2017 \n \nPrimary Staging Time: 11:30 A.M.\n\nMcDonalds\, 750 Carol Malone Blvd\n\nGrayson\, Kentucky – 41143\n\n\n\n \n \nRide Captain:\n\nCharlie French\n\n \n \nSpecial Instructions:\n\n\n\n \n \nFlags & Water:\n\nFlags Will NOT Be Provided\, Please Bring Your Own.\n\nIf you have large bike flags\, please bring them.\n\nWater WILL NOT be provided\, please bring your own.\n\nSubmitted By: Thomas Epperly\nPosition: Assistant State Captain \n[HR][/HR]\nNote:\nYou do not have to own/ride a motorcycle or be a Veteran to join and membership is Free. The only requirement is RESPECT! To join\, simply go to www.PatriotGuard.org and click on Register. Membership is Free. \nTo subscribe to receive mission notices\, log into the National Site and click on the Mission Tab at the top. Select Upcoming Missions by State. Scroll to the state(s) you would like to receive notices for and click on the green check mark. Detailed instructions are also located in the FAQs on the site by clicking on the Quick Links Tab and selecting FAQs.
URL:https://www.patriotguard.org/mission/james-e-holton-retired-usa/
END:VEVENT
END:VCALENDAR