BEGIN:VCALENDAR
VERSION:2.0
PRODID:-//Patriot Guard Riders - ECPv5.3.2.1//NONSGML v1.0//EN
CALSCALE:GREGORIAN
METHOD:PUBLISH
X-WR-CALNAME:Patriot Guard Riders
X-ORIGINAL-URL:https://www.patriotguard.org
X-WR-CALDESC:Events for Patriot Guard Riders
BEGIN:VTIMEZONE
TZID:America/New_York
BEGIN:DAYLIGHT
TZOFFSETFROM:-0500
TZOFFSETTO:-0400
TZNAME:EDT
DTSTART:20170312T070000
END:DAYLIGHT
BEGIN:STANDARD
TZOFFSETFROM:-0400
TZOFFSETTO:-0500
TZNAME:EST
DTSTART:20171105T060000
END:STANDARD
END:VTIMEZONE
BEGIN:VEVENT
DTSTART;TZID=America/New_York:20170421T074500
DTEND;TZID=America/New_York:20170421T094500
DTSTAMP:20210403T070611
CREATED:20170421T114500Z
LAST-MODIFIED:20191201T034235Z
UID:341059-1492760700-1492767900@www.patriotguard.org
SUMMARY:James E Hardison \, Veteran\, USAF
DESCRIPTION:James E Hardison\, Veteran \nUSAF \nTulsa\, Oklahoma – 21 Apr 2017\n\n\n[HR][/HR] \n\n\nABOUT THE MISSION: \nThe family of USAF Veteran James E Hardison has asked the PGR to stand a  Flag Line at his services to be held on Friday\, 21 April 2017 at Tulsa\,  OK.  Services will be held at Red Fork Baptist Church\, 2821 W 40th St\,  Tulsa\, OK at 1000 hours.  Interment will follow at Fort Gibson National  Cemetery\, 1423 Cemetery Road\, Fort Gibson\, OK for a 1400 hours interment  at the Committal Shelter.  The PGR has been asked to escort this Hero  from the Church to Fort Gibson National Cemetery. \nPRIMARY STAGING DETAILS:  21 Apr 2017 \n\n\n\nPrimary Staging Time:  0845 A.M.\n\nRed Fork Baptist Church\n2821 W 40th St\n\nTulsa\, Oklahoma –\n\n\n\n\n\n\n\nRide Captain:\n\nMike “Penni” Pennington\nwmp8843@cox.net\n918-557-1030\n\n\n\n\nSpecial Instructions:\n\nNOTE:  If weather is as forecast please cage.  Escort will be suspended and the\nPGR will meet the Coach and family at Fort Gibson.  Please be prepared\nto perform Honors during this mission.\n\n\n\n\nFlags & Water:\n\nFlags Will Be Provided\n\nIf you have large bike flags\, please bring them.\n\nWater WILL NOT be provided\, please bring your own.\n\nSubmitted By:  William Pennington\nPosition:  Ride Captain \n[HR][/HR]\nNote:\nYou do not have to own/ride a motorcycle or be a Veteran to join and membership is Free. The only requirement is RESPECT! To join\, simply go to www.PatriotGuard.org and click on Register. Membership is Free. \nTo subscribe to receive mission notices\, log into the National Site and  click on the Mission Tab at the top. Select Upcoming Missions by State.  Scroll to the state(s) you would like to receive notices for and click  on the green check mark. Detailed instructions are also located in the  FAQs on the site by clicking on the Quick Links Tab and selecting FAQs.
URL:https://www.patriotguard.org/mission/james-e-hardison-veteran-usaf/
END:VEVENT
END:VCALENDAR