BEGIN:VCALENDAR
VERSION:2.0
PRODID:-//Patriot Guard Riders - ECPv5.3.2.1//NONSGML v1.0//EN
CALSCALE:GREGORIAN
METHOD:PUBLISH
X-WR-CALNAME:Patriot Guard Riders
X-ORIGINAL-URL:https://www.patriotguard.org
X-WR-CALDESC:Events for Patriot Guard Riders
BEGIN:VTIMEZONE
TZID:America/New_York
BEGIN:DAYLIGHT
TZOFFSETFROM:-0500
TZOFFSETTO:-0400
TZNAME:EDT
DTSTART:20190310T070000
END:DAYLIGHT
BEGIN:STANDARD
TZOFFSETFROM:-0400
TZOFFSETTO:-0500
TZNAME:EST
DTSTART:20191103T060000
END:STANDARD
END:VTIMEZONE
BEGIN:VEVENT
DTSTART;VALUE=DATE:20190819
DTEND;VALUE=DATE:20190820
DTSTAMP:20210402T145714
CREATED:20190818T113237Z
LAST-MODIFIED:20190818T113237Z
UID:171232-1566172800-1566259199@www.patriotguard.org
SUMMARY:James E. Farr
DESCRIPTION:Honor Mission\nJames E. Farr\, Veteran\nUSN – Korea\nKilgore\, Texas – 08-19-19\n\n\n\nABOUT THE MISSION: \nMr. Farr was a Korean War veteran having served in the US Navy as a Gunner’s Mate with the rank of 3rd Class Petty Officer aboard the USS George K. MacKenzie (DD-836). He retired from Stemco after 26 years of service. He was a member of Grace Fellowship Church of Kilgore.\n\n\nPRIMARY STAGING DETAILS: 08-19-19 \nStaging Time: 12:00 PM\n \nFaith Fellowship Church of Kilgore\n409 Key St.\nKilgore\, Texas 75662\nMap\n\n\nRide Captain: \nMike Holt\n903 790 1141\nmikewholt@yahoo.com\n\n\nSpecial Instructions: \nGrace Fellowship Church of Kilgore\nStage: 12:00 to 12:30\nBriefing: 12;45.\nDirections to the cemetery will be given by the Ride Captain.\nInternment will follow at Lakeview Cemetery.\nBIG FLAG BIKES REQUESTED.\nPlease remain flexible as to the requirements of the mission. (SEMPER GUMBY)\n\n\nFlags & Water:\nFlags will be provided\nIf you have large bike flags\, please bring them.\nWater will be provided.\n\n\n\nSubmitted By: Michael Eubank \nPosition: Texas Deputy State Captain \n\nNote: You do not have to own/ride a motorcycle or be a veteran to join\, and membership is Free. The only requirement is RESPECT! To subscribe to receive mission notices\, log into the National Site and click on the Members tab at the top. Select the Subscribe to PGR Missions option.\n Print This Page
URL:https://www.patriotguard.org/mission/james-e-farr/
CATEGORIES:Honor Mission
END:VEVENT
END:VCALENDAR